BEGIN:VCALENDAR
PRODID:NingEventWidget-v1
VERSION:2.0
METHOD:PUBLISH
BEGIN:VEVENT
UID:2508951:Event:197005
DTSTAMP:20260423T002309Z
SUMMARY:Stars & Stripes Explosion
DESCRIPTION:Multiple live performances on oceanfront stages attract te
 ns of thousands of visitors and residents of Hampton Roads to a “sta
 r-spangled” salute to this great country of ours at Stars & Stripes 
 Explosion!  Musical acts offer something for everyone with tribute ba
 nds saluting some of the biggest names in music. From 8:00pm-9:30pm, a
  stage erected right on the beach at 20th Street becomes the focal poi
 nt for performances by Symphonicity (the symphony orchestra of Virgini
 a Beach) together with the Virginia Beach Chorale.  This musical prog
 ram encompasses patriotic songs, Broadway standards, movie themes, and
  folk music.  The show segues into a spectacular fireworks show at 9:
 30pm that explodes over the ocean in a burst of colors and patterns!\n
 \nEntertainment Schedule\n17th St. Park Presented by Selecta 1050 Rad
 io Local 34 (7:30pm-10:45pm)\n20th St. on the Beach Hosted by Juliet B
 ickford (FIREWORKS 9:30pm) Symphonicity and the Virginia Beach Chorale
  (8pm-9:30pm) See Details below\n24th St. Park Chester B's Motown Trib
 ute Show (8pm-10:30pm)\n31st St. Park Who's Bad \"Michael Jackson Trib
 ute\" (8pm-9:30pm)\nSymphonicity Stage 20th St. on the Beach Program: 
 National Anthem Strike Up the Band: Whitney/Gershwin Americana: Luigi 
 Zaninelli\n\nVirginia Beach ChoraleThis arrangement includes:     
     Shenandoah         Skip to my Lou         Sweet B
 etsy from Pike    Salute to the Big Apple: Arranged by Calvin Cust
 erThis arrangement includes:Theme from New York, New YorkForty-Second 
 StreetLullaby of Broadway\nCole Porter Salute: Arranged by John Whitne
 yThis arrangement will be sung by Kimberly Markham and includes:   
  Another Opening, Another Show    In the Still of the Night    A
 nything Goes    Night and Day\nA Touch of Jazz: Arranged by Jerry B
 rubaker American Patrol: F. W. Meacham\nLes Miserables: Lowden/Schoen
 berg\nKimberly Markham, soprano\nVirginia Beach ChoraleThis arrangemen
 t includes:         At the End of the Day         I Drea
 med a Dream         Master of the House         On My Ow
 n         Do You Hear the People Sing? Doorway Singers\nAmeric
 a the Beautiful: Ward/Bates\nHymn to the Fallen: John Williams   An
 them from Chess: Arranged by David KunkelKimberly Markham, soprano  
   1812 Overture: TchaikovskyStars and Stripes Forever: John Phillip 
 Sousa\n\nFor more information visit https://vbnightlife.com/events/sta
 rs-stripes-explosion-1
DTSTART:20120704T040000Z
DTEND:20120705T035900Z
CATEGORIES:"virginia beach events", "virginia beach concerts", "virgin
 ia beach summer", "virginia beach 4th of july", "beach street usa"
LOCATION:Oceanfront
WEBSITE:http://www.beachstreetusa.com/events/StarsAndStripesExplosion
URL:http://www.beachstreetusa.com/events/StarsAndStripesExplosion
CONTACT:
ORGANIZER;CN="VBnightlife.com":https://vbnightlife.com/profile/admin
ATTACH;FMTTYPE="image/jpeg":http://storage.ning.com/topology/rest/1.0/
 file/get/1664170836?profile=original
ATTENDEE;ROLE=REQ-PARTICIPANT;PARTSTAT=ACCEPTED;RSVP=TRUE;CN="Rolan St
 ears":https://vbnightlife.com/profile/RolanStears
ATTENDEE;ROLE=REQ-PARTICIPANT;PARTSTAT=ACCEPTED;RSVP=TRUE;CN="VBnightl
 ife.com":https://vbnightlife.com/profile/admin
END:VEVENT
END:VCALENDAR
