BEGIN:VCALENDAR
PRODID:NingEventWidget-v1
VERSION:2.0
METHOD:PUBLISH
BEGIN:VEVENT
UID:2508951:Event:266464
DTSTAMP:20260422T074648Z
SUMMARY:HALLOWEEN EVENTS for the FAMILY and TEENS 2014
DESCRIPTION:VERY SCARY Zombie Contagion Haunted House - Peninsula Town
  Center: www.VBhotdeals.com\nHAUNTED HUNT CLUB FARM\ndetails and $10 
 off voucher here:  www.VBhotdeals.com\n\nHarvest Festival at Hunt Clu
 b Farm - 1/2 off kid and adult package www.VBhotdeals.com\nZombie Pai
 ntball for Two - Includes 100 Rounds of Glow-in-the-Dark Paintball Amm
 unition www.VBhotdeals.com\n\nHalloweekend at the Adventure Park - Th
 ursday thru Saturday HALLOWEEKEND AT THE ADVENTURE PARK!\nTEEN TAKEOV
 ER / ZOMBIE PROM - FREE HALLOWEEN EVENT AT VIRGINIA MUSEUM OF CONTEMP
 ORARY ART - EXCLUSIVELY FOR TEENS\nCullipher Berry and Pumpkin Patch 
 \nAddress: 772 Princess Anne Road, Virginia Beach, Virginia 23457\nAc
 tivities: Navigate through two mazes encompassing over 5 acres. Choos
 e from over 30 varieties of pumpkins and gourds and cut them right off
  the vine\nCost: KIDS 2 and under FREE, no family pays more then $40 
 for activities and mazes. Parking is free. U-Pick pumpkins\nTaylor Fa
 rms \nAddress: 2599 Dam Neck Road, Virginia Beach VADates: Farm wil
 l be opening the Pumpkin Patch in late September 2014. During the week
  open for school tours by appointment. Weekends: Saturdays 10am-5pm, 
 Sundays 12-5pm. *Special event on Sept 27th from 10am-5pm to benefit t
 he K-9 Justice League, $5 admission with lots of extras!\nCost: Hayr
 ides are FREE. There is a small admission fee for front animal park/pl
 ayground. \nUpdates: Call for updates (757) 427-6461 \n \nFor infor
 mation on the events listed above and more visit My Active Child here:
    http://www.myactivechild.com/resources/seasonal-fun-hampton-roads
 /big-list-pumpkin-patches/\n\nFor more information visit https://vbnig
 htlife.com/events/spooky-halloween-events-for-older-kids-and-adults
DTSTART:20141031T040000Z
DTEND:20141101T035900Z
CATEGORIES:"halloween in hampton roads", "halloween events in virginia
  beach"
LOCATION:Virginia Beach, Hampton Roads
WEBSITE:
URL:
CONTACT:
ORGANIZER;CN="VBnightlife.com":https://vbnightlife.com/profile/admin
ATTACH;FMTTYPE="image/jpeg":http://storage.ning.com/topology/rest/1.0/
 file/get/1664215853?profile=original
ATTENDEE;ROLE=REQ-PARTICIPANT;PARTSTAT=ACCEPTED;RSVP=TRUE;CN="VBnightl
 ife.com":https://vbnightlife.com/profile/admin
END:VEVENT
END:VCALENDAR
