BEGIN:VCALENDAR
PRODID:NingEventWidget-v1
VERSION:2.0
METHOD:PUBLISH
BEGIN:VEVENT
UID:2508951:Event:301984
DTSTAMP:20260423T061300Z
SUMMARY:Spirit Night for Strawbridge Elementary at Crazy Good Donuts &
  Ice Cream - Red Mill
DESCRIPTION:Stop by Crazy Good Donuts & Ice Cream Wednesday night betw
 een 4 and 9pm and indulge in made-to-order donuts sprinkled and iced t
 o your specifications.  15% will be donated to Strawbridge Elementary
  PTA.  \n\nCrazy Good Donuts & Ice Cream\nPhone: 757-689-3236\nAddre
 ss: 2201 Upton Dr Virginia Beach, VA\nWebsite: crazygooddonuts.com\nH
 ours: Mon-Thurs: 6am-9pm, Fri-Sat: 6am-10pm, Sun: 6am-9pm\nDescription
 : Crazy Good Donuts & Ice Cream is a perfect place for the whole famil
 y! Enjoy fresh, warm made-to-order donuts, premium hard and soft serve
  ice cream, frozen yogurt, milkshakes, coffee and tea. They offer Made
 -to-order Breakfast sandwiches 6am to 11am weekdays and 6am to noon on
  Saturday and Sundays\nMilitary Special: 10% off with ID \n\n \n\n 
 \n\nFor more information visit https://vbnightlife.com/events/spirit-n
 ight-for-strawbridge-elementary-at-crazy-good-donuts-ice-
DTSTART:20141119T210000Z
DTEND:20141120T020000Z
CATEGORIES:fundraiser, "things to do in virginia beach"
LOCATION:Crazy Good Donuts & Ice Cream
WEBSITE:
URL:
CONTACT:
ORGANIZER:VBnightlife.com / VBdaylife.com / VBhotdeals.com
ATTACH;FMTTYPE="image/jpeg":http://storage.ning.com/topology/rest/1.0/
 file/get/1664252625?profile=original
ATTENDEE;ROLE=REQ-PARTICIPANT;PARTSTAT=ACCEPTED;RSVP=TRUE;CN="VBnightl
 ife.com":https://vbnightlife.com/profile/admin
END:VEVENT
END:VCALENDAR
