BEGIN:VCALENDAR
PRODID:NingEventWidget-v1
VERSION:2.0
METHOD:PUBLISH
BEGIN:VEVENT
UID:2508951:Event:191014
DTSTAMP:20260423T082942Z
SUMMARY:SPIDER LOVE AT SOUTH BEACH GRILL!
DESCRIPTION:This awesome new band that you have been hearing about wil
 l be rocking South Beach Grill Wednesday night!  The show starts at 8
  (for those of us who have to work early) along with POWER HOUR which 
 is $1 well drinks, house wines and domestic beers.  \n\nSpider Love i
 s classic arena and dance rock done right. Featuring Liana Jones from 
 the Killroos, Peter Pope from Squares/Rhondels, Robb Torgler of Butter
 , Rod Watson from Lead 86 and Shannon Leggett from Mott the Hoople, th
 e band delivers classic hits with a maturity and passion that can only
  come from experience.  \n\nCheck out photos from Spider Love 2 weeks
  ago at Boneshakers!\n\n\"Like\" Spider Love on Facebook Here\n\nALSO
 , enjoy a fabulous Prime Rib dinner for only $8.99.  Hope to see you 
 there!\n\nFor more information visit https://vbnightlife.com/events/sp
 ider-love-at-south-beach-grill
DTSTART:20120301T010000Z
DTEND:20120301T040000Z
CATEGORIES:band, "spider love"
LOCATION:South Beach Grill
WEBSITE:
URL:
CONTACT:
ORGANIZER;CN="VBnightlife.com":https://vbnightlife.com/profile/admin
ATTACH;FMTTYPE="image/jpeg":http://storage.ning.com/topology/rest/1.0/
 file/get/1664163168?profile=original
ATTENDEE;ROLE=REQ-PARTICIPANT;PARTSTAT=ACCEPTED;RSVP=TRUE;CN="VBnightl
 ife.com":https://vbnightlife.com/profile/admin
END:VEVENT
END:VCALENDAR
