BEGIN:VCALENDAR
PRODID:NingEventWidget-v1
VERSION:2.0
METHOD:PUBLISH
BEGIN:VEVENT
UID:2508951:Event:167052
DTSTAMP:20260423T211914Z
SUMMARY:Special Olympics Run with the Law Fundraiser
DESCRIPTION:Baxters Sports Lounge is offering an opportunity to suppor
 t the NPDs efforts to raise money for Special Olympics Virginia.  Pla
 nning on watching pre-season NFL? Do you ever feel like you should con
 tribute more to charitable causes? Well, you can do BOTH at Baxters! S
 eptember 1, Baxters will donate 20% of all food and drink purchases to
  Special Olympics Virginia.  How often do you get to go to a sports l
 ounge and contribute to charity? So come dine, play pool, and watch fo
 otball for the sake of Special Olympics Virginia.  Door prizes and co
 ntests will be available.\n\nFor more information visit https://vbnigh
 tlife.com/events/special-olympics-run-with-the-law-fundraiser
DTSTART:20110901T210000Z
DTEND:20110902T000000Z
CATEGORIES:fundraiser
LOCATION:Baxters Sports Lounge
WEBSITE:http://maps.google.com/maps?hl=en&um=1&ie=UTF-8&q=baxters+spor
 ts+lounge+norfolk+virginia&fb=1&gl=us&hq=baxters+sports+lounge&hnear=0
 x89ba973a5322ca45:0xab99107fce7a1e0a,Norfolk,+VA&cid=0,0,9415655234247
 576093&ei=aURdTtbkFuPz0gG1_MDfAg&sa=X&oi=local_result&ct=image&resnum=
 2&ved=0CBQQnwIwAQ
URL:http://maps.google.com/maps?hl=en&um=1&ie=UTF-8&q=baxters+sports+l
 ounge+norfolk+virginia&fb=1&gl=us&hq=baxters+sports+lounge&hnear=0x89b
 a973a5322ca45:0xab99107fce7a1e0a,Norfolk,+VA&cid=0,0,94156552342475760
 93&ei=aURdTtbkFuPz0gG1_MDfAg&sa=X&oi=local_result&ct=image&resnum=2&ve
 d=0CBQQnwIwAQ
CONTACT:757-664-6981
ORGANIZER;CN="Heather Morse":https://vbnightlife.com/profile/HeatherMo
 rse
ATTACH;FMTTYPE="image/jpeg":http://storage.ning.com/topology/rest/1.0/
 file/get/1664151602?profile=original
ATTENDEE;ROLE=REQ-PARTICIPANT;PARTSTAT=ACCEPTED;RSVP=TRUE;CN="Heather 
 Morse":https://vbnightlife.com/profile/HeatherMorse
END:VEVENT
END:VCALENDAR
