BEGIN:VCALENDAR
PRODID:NingEventWidget-v1
VERSION:2.0
METHOD:PUBLISH
BEGIN:VEVENT
UID:2508951:Event:6680
DTSTAMP:20260425T160047Z
SUMMARY:SPCA TOP PET SHOW
DESCRIPTION:ENTER YOUR PET & SAVE THE DATE!\nApril 4, 2009\n5:30 pm - 
 8:30 pm\n\nFOLLOW THIS LINK FOR INSTRUCTIONS ON HOW TO ENTER YOUR PET\
 nhttp://vbspca.com\n\nVirginia Beach SPCA Yappy Hour Celebration\n\nFe
 aturing: Tidewater’s Top Pets Contest and Pawsitive Community Partne
 rs\n\nSilent Auction, Cocktails, Hors D'oeuvres\n\nThe Westin at Virgi
 nia Beach Town Center\nTHANK YOU TO THE BREEDEN COMPANY AND OUR GENERO
 US SPONSORS\n\n-------------------------------------------------------
 -------------------------\n\nVBSPCA's 2009 Yappy Hour & Pawsitive Part
 ners Celebration at the beautiful Westin in Town Center on April 4, 20
 09 will be held from 5:30 - 8:30 pm and will feature a silent auction,
  delicious hors d'oeuvres, beverages and desserts.\n\nJoin us as we pr
 esent the finalists of the Tidewater's Top Pets and celebrity judges d
 etermine the winners.\n\nReserve your spot now by purchasing a ticket 
 for what promises to be a fun-filled and lively celebration of animals
  and a tribute to organizations working to make a difference in our co
 mmunity every day!\n\nPURCHASE YAPPY HOUR TICKETS NOW!\n\nThe followin
 g charities will be honored as \"Pawsitive Community Partners\"\n- Air
  Compassion for Veterans\n- American Red Cross of Southeast VA\n- Jude
 o-Christian Outreach Center\n- Samaritan House\n- Virginia Beach Centr
 al Lion's Club\n- Virginia Beach City Union of King's Daughters and So
 ns\n- Virginia Beach Lifesaving Foundation\n- VOLUNTEER Hampton Roads\
 n- YWCA\n\nFor more information visit https://vbnightlife.com/events/s
 pca-top-pet-show
DTSTART:20090404T213000Z
DTEND:20090405T003000Z
CATEGORIES:fundraiser
LOCATION:The Westin at Virginia Beach Town Center
WEBSITE:http://vbspca.com
URL:http://vbspca.com
CONTACT:
ORGANIZER:SPCA
ATTACH;FMTTYPE="image/jpeg":http://storage.ning.com/topology/rest/1.0/
 file/get/1664069297?profile=original
ATTENDEE;ROLE=REQ-PARTICIPANT;PARTSTAT=ACCEPTED;RSVP=TRUE;CN="Nicole M
 axino":https://vbnightlife.com/profile/NicoleMaxino
END:VEVENT
END:VCALENDAR
