BEGIN:VCALENDAR
PRODID:NingEventWidget-v1
VERSION:2.0
METHOD:PUBLISH
BEGIN:VEVENT
UID:2508951:Event:190653
DTSTAMP:20260423T081945Z
SUMMARY:Spayghetti Dinner @ Il Giardino
DESCRIPTION:\n\nFor more information visit https://vbnightlife.com/eve
 nts/spayghetti-dinner-il-giardino
DTSTART:20120228T050000Z
DTEND:20120229T045900Z
CATEGORIES:"spayghetti dinner", "virginia beach spca", "virginia beach
  events", "il giardino"
LOCATION:Il Giardino
WEBSITE:
URL:
CONTACT:
ORGANIZER;CN="VBnightlife.com":https://vbnightlife.com/profile/admin
ATTACH;FMTTYPE="image/jpeg":http://storage.ning.com/topology/rest/1.0/
 file/get/1664164541?profile=original
ATTENDEE;ROLE=REQ-PARTICIPANT;PARTSTAT=ACCEPTED;RSVP=TRUE;CN="Rolan St
 ears":https://vbnightlife.com/profile/RolanStears
ATTENDEE;ROLE=REQ-PARTICIPANT;PARTSTAT=ACCEPTED;RSVP=TRUE;CN="VBnightl
 ife.com":https://vbnightlife.com/profile/admin
END:VEVENT
END:VCALENDAR
