BEGIN:VCALENDAR
PRODID:NingEventWidget-v1
VERSION:2.0
METHOD:PUBLISH
BEGIN:VEVENT
UID:2508951:Event:316427
DTSTAMP:20260423T081045Z
SUMMARY:Sparky & Rhonda Rucker
DESCRIPTION:Admission:: VISA, MasterCard, Discover, AM Express @ the d
 oor\n$20 General\n$18 Seniors, ALL Military, Students w IDs\n$15 TFAM 
 Members\n\nSparky and Rhonda Rucker perform throughout the U.S. as wel
 l as overseas, singing songs and telling stories from the American fol
 k tradition. Sparky Rucker has been performing over forty years and is
  internationally recognized as a leading folklorist, musician, histori
 an, storyteller, and author. He accompanies himself with fingerstyle p
 icking and bottleneck blues guitar, banjo, and spoons. Rhonda Rucker i
 s a musician, children's author, storyteller, and songwriter. Her blue
 s-style harmonica, piano, old-time banjo, and bones add musical versat
 ility to their performances.\n\nhttps://www.youtube.com/watch?v=lSRWuY
 5fmFA\n\nFor more information visit https://vbnightlife.com/events/spa
 rky-rhonda-rucker
DTSTART:20160110T003000Z
DTEND:20160110T030000Z
CATEGORIES:concert
LOCATION:Meyera E. Oberndorf Central Library
WEBSITE:
URL:
CONTACT:757-538-1959
ORGANIZER;CN="Tidewater Friends Acoustic Music":https://vbnightlife.co
 m/profile/TidewaterFriendsofFolkMusic71
ATTACH;FMTTYPE="image/jpeg":http://storage.ning.com/topology/rest/1.0/
 file/get/1664288112?profile=original
ATTENDEE;ROLE=REQ-PARTICIPANT;PARTSTAT=ACCEPTED;RSVP=TRUE;CN="Tidewate
 r Friends Acoustic Music":https://vbnightlife.com/profile/TidewaterFri
 endsofFolkMusic71
END:VEVENT
END:VCALENDAR
