BEGIN:VCALENDAR
PRODID:NingEventWidget-v1
VERSION:2.0
METHOD:PUBLISH
BEGIN:VEVENT
UID:2508951:Event:95347
DTSTAMP:20260423T144413Z
SUMMARY:SOUTHSIDE PRO WRESTLING FUNDRAISER FOR CYSTIC FIBROSIS
DESCRIPTION:\n\nFor more information visit https://vbnightlife.com/eve
 nts/southside-pro-wrestling-1
DTSTART:20110409T231500Z
DTEND:20110410T020000Z
CATEGORIES:fundraiser, wrestling
LOCATION:VIRGINIA BEACH FIELD HOUSE
WEBSITE:
URL:
CONTACT:
ORGANIZER;CN="VBnightlife.com":https://vbnightlife.com/profile/admin
ATTACH;FMTTYPE="image/jpeg":http://storage.ning.com/topology/rest/1.0/
 file/get/1664138452?profile=original
ATTENDEE;ROLE=REQ-PARTICIPANT;PARTSTAT=ACCEPTED;RSVP=TRUE;CN="Doug Har
 ris":https://vbnightlife.com/profile/DougHarris
ATTENDEE;ROLE=REQ-PARTICIPANT;PARTSTAT=ACCEPTED;RSVP=TRUE;CN="VBnightl
 ife.com":https://vbnightlife.com/profile/admin
END:VEVENT
END:VCALENDAR
