BEGIN:VCALENDAR
PRODID:NingEventWidget-v1
VERSION:2.0
METHOD:PUBLISH
BEGIN:VEVENT
UID:2508951:Event:199878
DTSTAMP:20260423T002920Z
SUMMARY:South Hampton Roads 4th of July Celebrations
DESCRIPTION:Virginia Beach:\nOceanfront: Stars & Stripes Explosion\n6:
 30-9:30pm: Sandbridge: 4th of July Fireworks at Sandbridge Beach\n6-10
 pm: Mt. Trashmore: 4th of July Celebration at Mt. Trashmore\n10am-9pm:
  First Landing: 4th of July Celebration at First Landing State Park\n\
 nNorfolk:\n5-10pm: Town Point Park: The 30th Annual AT&T 4th of July G
 reat American Picnic & Fireworks\n\nPortsmouth:\n9:30pm: Downtown: Ind
 ependence Day Fireworks\n\nChesapeake:\n10am: Lakeside Park: 4th of Ju
 ly Celebration at Lakeside Park\n\nSuffolk:\n6-9pm: Constant's Wharf P
 ark: Stars & Stripes Spectacular\n\nFor more information visit https:/
 /vbnightlife.com/events/south-hampton-roads-4th-of-july-celebrations
DTSTART:20120704T040000Z
DTEND:20120705T035900Z
CATEGORIES:"virginia beach events", "virginia beach nightlife", "hampt
 on roads fireworks", "hampton roads 4th of july"
LOCATION:Hampton Roads
WEBSITE:
URL:
CONTACT:
ORGANIZER;CN="VBnightlife.com":https://vbnightlife.com/profile/admin
ATTACH;FMTTYPE="image/jpeg":http://storage.ning.com/topology/rest/1.0/
 file/get/1664173942?profile=original
ATTENDEE;ROLE=REQ-PARTICIPANT;PARTSTAT=ACCEPTED;RSVP=TRUE;CN="VBnightl
 ife.com":https://vbnightlife.com/profile/admin
END:VEVENT
END:VCALENDAR
