BEGIN:VCALENDAR
PRODID:NingEventWidget-v1
VERSION:2.0
METHOD:PUBLISH
BEGIN:VEVENT
UID:2508951:Event:171914
DTSTAMP:20260420T134300Z
SUMMARY:Soul & Cigars at 11th Street Taphouse with Joe Heilman from 7 
 to 10 with RECON CIGARS and 50% off Micro and Craft Brewed Beers!
DESCRIPTION:50% off Micro beer and Half-a-tizers - buy one appetizer t
 he the 2nd 1/2 price!\nPlease come for a great dinner and enjoy the so
 ulful sounds of Joe Heilman. Then head to the patio to enjoy a cordial
  & a cigar from Recon Cigars! Â \nÂ \nThey produce a premium hand roll
 ed cigar made from aged Nicaraguan long filler and Ecuadorian wrapper 
 finished with hand place patches of Candela, light Habano and criollo 
 leaves to compete the acclaimed 'camo' look. We are the only company t
 o ever create a cigar with this type of packaging that pays homage to 
 the military.Â  Our cigars are made for aficionados as well as passive
  and entry level smokers. They are creamy with sweet flavor notes.Â  J
 ust see below:Â \nRecon Cigars\nRecon' you're gonna want to smoke thes
 e\n\n\n\n\nItâ€™s time to ditch the Swisher Sweets (yes, even the blue
 berry cigarillos!) and pick up some Recon Cigars, a brand-new \"avant-
 garde\" line of Ecuador/ Nicaragua-imported, hand-rolled stogies conju
 red up by a retired US Marine, which're packaged in ammo casings, and 
 completely covered in camo...wait, where the hellâ€™d they go?!?! Whew
 , theyâ€™re actually still right here, as are these facts:\n\nSaid cam
 o is actually pieces of wrapper thatâ€™re meticulously hand-cut and pl
 aced one at a time, before the finished product gets stuck inside a br
 ass-colored aluminum tube modeled after a 25mm anti-aircraft round, al
 though most boxers don't stand a chance against even a prop plane for 
 three minutes at a time.\nBeing medium-bodied, theyâ€™re made to \"mee
 t the discerning tastes of aficionados as well as the entry- to mid-le
 vel smoker\", even though most of those dudes working forÂ WaterworldÂ
  made Dennis Hopper seem like they've been around for a while.\nFor no
 w, you can grab toro-sizers individually, but they'll soon be dropping
  a 20-pack boxed-up in a scaled-down Marine ammo case slapped with aÂ 
 completely terrifyingÂ explosives warning logo.\nReconâ€™ll soon be re
 leasing different sizes and blends that correlate with military rankin
 gs, presumably a homage to Bill Clintonâ€™s love of combining cigars a
 nd Privates.\nTheyâ€™ll soon be moving beyond camo, as also in the wor
 ks is a cigar rolled in the signature red/white/blue barber pole motif
 , signifying the place Nick Swisher emerges from, looking anything but
  sweet.\n\n\n\n\n\nRead more:Â http://thrillist.com/home-gadgets/miami
 /recon-cigars#ixzz1Zv9tqHz8\n\nWe always enjoy the Taphouse and VBnigh
 tlife is in the house as always!\n\nFor more information visit https:/
 /vbnightlife.com/events/soul
DTSTART:20111006T230000Z
DTEND:20111007T020000Z
CATEGORIES:soul, "&", cigars
LOCATION:11th Street Taphouse
WEBSITE:http://www.11taphouse.com/
URL:http://www.11taphouse.com/
CONTACT:(757) 321-8354
ORGANIZER;CN="VBnightlife.com":https://vbnightlife.com/profile/admin
ATTACH;FMTTYPE="image/jpeg":http://storage.ning.com/topology/rest/1.0/
 file/get/1664153375?profile=original
ATTENDEE;ROLE=REQ-PARTICIPANT;PARTSTAT=ACCEPTED;RSVP=TRUE;CN="VBnightl
 ife.com":https://vbnightlife.com/profile/admin
END:VEVENT
END:VCALENDAR
