BEGIN:VCALENDAR
PRODID:NingEventWidget-v1
VERSION:2.0
METHOD:PUBLISH
BEGIN:VEVENT
UID:2508951:Event:193672
DTSTAMP:20260422T065405Z
SUMMARY:Soul Haven Presents - A Sunday Of Soul
DESCRIPTION:Soul Haven Studios and Seth Stainback have teamed up to ce
 lebrate the release of his debut album \"Earth and Worm\" on Sunday Ap
 ril 22nd  The show will go from 4pm-8p at The Jewish Mother-Hilltop 60
 0 Nevan Rd. Virginia Beach, Va  tickets are $5  Joining Seth and his 
 band ROOSTERFOOT will be performances by  THE BRANDON BOWER BAND THE 
 GOLD SAUCE RAY & KASEY  This is a local release by a local artist join
 ed by friends and other local original artists, so come on out and hel
 p support original music in the 757!!!\n\nFor more information visit h
 ttps://vbnightlife.com/events/soul-haven-presents-a-sunday-of-soulc
DTSTART:20120422T200000Z
DTEND:20120423T000000Z
CATEGORIES:concert
LOCATION:Jewish Mother - Hilltop
WEBSITE:
URL:
CONTACT:
ORGANIZER;CN="Mickey Pellino":https://vbnightlife.com/profile/MickeyPe
 llino
ATTACH;FMTTYPE="image/jpeg":http://storage.ning.com/topology/rest/1.0/
 file/get/1664171075?profile=original
ATTENDEE;ROLE=REQ-PARTICIPANT;PARTSTAT=ACCEPTED;RSVP=TRUE;CN="Mickey P
 ellino":https://vbnightlife.com/profile/MickeyPellino
END:VEVENT
END:VCALENDAR
