BEGIN:VCALENDAR
PRODID:NingEventWidget-v1
VERSION:2.0
METHOD:PUBLISH
BEGIN:VEVENT
UID:2508951:Event:170235
DTSTAMP:20260420T110215Z
SUMMARY:Solar & More Home Tour - Peninsula
DESCRIPTION:\n\nSolar & More Home Tour - Sat/Sun, Oct. 1 & 2 - FREE\nS
 ee solar and other innovative and sustainable technologies at work in 
 homes and businesses and talk to owners, designers and installers.\nTe
 chnologies on display at 20 sites around Hampton Roads include PV and 
 solar thermal systems, a wind turbine, green (living) roofs and water 
 catchment systems as well as LEED, net zero and passive solar design.Â
  For more information or to register for the tour and receive a tour g
 uide, visitÂ www.hrsolartour.com\nOrganized by the Hampton Roads Solar
  Group and the Hampton Roads Green Building Council\n\nFor more inform
 ation visit https://vbnightlife.com/events/solar-more-home-tour-souths
 ide
DTSTART:20111001T140000Z
DTEND:20111001T180000Z
CATEGORIES:home, tour
LOCATION:Peninsula
WEBSITE:http://www.hrsolartour.com
URL:http://www.hrsolartour.com
CONTACT:214-6732
ORGANIZER:HRGBC
ATTACH;FMTTYPE="image/jpeg":http://storage.ning.com/topology/rest/1.0/
 file/get/1664151600?profile=original
ATTENDEE;ROLE=REQ-PARTICIPANT;PARTSTAT=ACCEPTED;RSVP=TRUE;CN="Louis Sm
 ith":https://vbnightlife.com/profile/LouisSmith
END:VEVENT
END:VCALENDAR
