BEGIN:VCALENDAR
PRODID:NingEventWidget-v1
VERSION:2.0
METHOD:PUBLISH
BEGIN:VEVENT
UID:2508951:Event:33040
DTSTAMP:20260421T035212Z
SUMMARY:SOCIAL SESSIONS
DESCRIPTION:\n\n\nFor more information visit https://vbnightlife.com/e
 vents/social-sessions
DTSTART:20100321T010000Z
DTEND:20100321T050000Z
CATEGORIES:party
LOCATION:Sake Japanese Restaurant
WEBSITE:http://maps.google.com/maps/place?hl=en&resnum=0&um=1&ie=UTF-8
 &q=sake+japanese+restaurant,+virginia+beach&fb=1&gl=us&hq=sake+japanes
 e+restaurant,&hnear=virginia+beach&cid=3166263526185517690
URL:http://maps.google.com/maps/place?hl=en&resnum=0&um=1&ie=UTF-8&q=s
 ake+japanese+restaurant,+virginia+beach&fb=1&gl=us&hq=sake+japanese+re
 staurant,&hnear=virginia+beach&cid=3166263526185517690
CONTACT:
ORGANIZER;CN="Clear Ocean Beverage Distributor":https://vbnightlife.co
 m/profile/ClearOceanBeverageDistributor
ATTACH;FMTTYPE="image/jpeg":http://storage.ning.com/topology/rest/1.0/
 file/get/1664104409?profile=original
ATTENDEE;ROLE=REQ-PARTICIPANT;PARTSTAT=ACCEPTED;RSVP=TRUE;CN="Clear Oc
 ean Beverage Distributor":https://vbnightlife.com/profile/ClearOceanBe
 verageDistributor
END:VEVENT
END:VCALENDAR
