BEGIN:VCALENDAR
PRODID:NingEventWidget-v1
VERSION:2.0
METHOD:PUBLISH
BEGIN:VEVENT
UID:2508951:Event:13427
DTSTAMP:20260425T130154Z
SUMMARY:SNOOP DOG, JESSE CHONG AND DJ JOE FU @ THE NORVA
DESCRIPTION:$32.50 in advance\n\nFor more information visit https://vb
 nightlife.com/events/snoop-dog-jesse-chong-and-dj
DTSTART:20090513T000000Z
DTEND:20090513T033000Z
CATEGORIES:concert
LOCATION:The Norva
WEBSITE:
URL:
CONTACT:
ORGANIZER:The Norva
ATTACH;FMTTYPE="image/jpeg":http://storage.ning.com/topology/rest/1.0/
 file/get/1664074146?profile=original
ATTENDEE;ROLE=REQ-PARTICIPANT;PARTSTAT=ACCEPTED;RSVP=TRUE;CN="Nicole M
 axino":https://vbnightlife.com/profile/NicoleMaxino
END:VEVENT
END:VCALENDAR
