BEGIN:VCALENDAR
PRODID:NingEventWidget-v1
VERSION:2.0
METHOD:PUBLISH
BEGIN:VEVENT
UID:2508951:Event:199818
DTSTAMP:20260423T003434Z
SUMMARY:Snard Brothers/Ocean Eddies Reunion with MOCEAN @ The Jewish M
 other
DESCRIPTION:The Snard Brothers / Ocean Eddies Reunion takes place at t
 he Jewish Mother Hilltop. A local band, MOCEAN will be opening. Show s
 tarts at 9. Tickets $10. in advance. If you enjoy great music and a za
 ny show,  do not miss this once in every coupla' years show. \n\nFo
 r more information visit https://vbnightlife.com/events/snard-brothers
 -ocean-eddies-reunion-with-mocean-the-jewish-mother
DTSTART:20120708T010000Z
DTEND:20120708T050000Z
CATEGORIES:snardbrothers, zanyshow, oceaneddies, mocean, rocknroll, gr
 eatfood, nicepeople, l
LOCATION:The Jewish Mother - Hilltop
WEBSITE:https://maps.google.com/maps?q=600+Nevan+Road,+Virginia+Beach,
 +VA&hl=en&sll=37.0625,-95.677068&sspn=33.489543,68.291016&oq=600+nevan
 &hnear=600+Nevan+Rd,+Virginia+Beach,+Virginia+23451&t=m&z=16
URL:https://maps.google.com/maps?q=600+Nevan+Road,+Virginia+Beach,+VA&
 hl=en&sll=37.0625,-95.677068&sspn=33.489543,68.291016&oq=600+nevan&hne
 ar=600+Nevan+Rd,+Virginia+Beach,+Virginia+23451&t=m&z=16
CONTACT:(757) 428-1515
ORGANIZER:The Snard Brothers, MOCEAN, and The Jewish Mother
ATTACH;FMTTYPE="image/jpeg":http://storage.ning.com/topology/rest/1.0/
 file/get/1664174155?profile=original
ATTENDEE;ROLE=REQ-PARTICIPANT;PARTSTAT=ACCEPTED;RSVP=TRUE;CN="Rolan St
 ears":https://vbnightlife.com/profile/RolanStears
ATTENDEE;ROLE=REQ-PARTICIPANT;PARTSTAT=ACCEPTED;RSVP=TRUE;CN=MOCEAN:ht
 tps://vbnightlife.com/profile/RalphJGargiulo
END:VEVENT
END:VCALENDAR
