BEGIN:VCALENDAR
PRODID:NingEventWidget-v1
VERSION:2.0
METHOD:PUBLISH
BEGIN:VEVENT
UID:2508951:Event:300663
DTSTAMP:20260422T210259Z
SUMMARY:Smartmouth Brewery Invasion at The Sly Fox
DESCRIPTION:Nov. 15th Event Time: 2pm-6pm\nEntertainment: Local Favori
 te Dustin Furlow from 2pm-5pm\n\nTicket Price: $30 purchased in advanc
 ed and $30 at the door if you mention VBnightlife\n \nSmartmouth Repr
 esentatives and  Brewmasters will be on hand to answer questions, tal
 k about products, etc.\n\nPrice Includes: Smartmouth novelty pint glas
 s, 3 beer tickets, T-Shirt, Food including smoked pork BBQ, beef brisk
 et, kale cole slaw, mac and cheese, Featuring 4 different Smartmouth B
 eers TBA, Entertainment by Local Favorite Dustin Furlow, and Raffle Pr
 izes\n\n\nFor more information visit https://vbnightlife.com/events/sm
 artmouth-brewery-invasion-at-the-sly-fox
DTSTART:20141115T190000Z
DTEND:20141115T230000Z
CATEGORIES:"smartmouth brewery", "sly fox virginia beach", "live music
  in virginia beach", "things to do in virginia beach"
LOCATION:The Sly Fox
WEBSITE:
URL:
CONTACT:
ORGANIZER:VBnightlife.com / vbdaylife.com / VBhotdeals.com
ATTACH;FMTTYPE="image/jpeg":http://storage.ning.com/topology/rest/1.0/
 file/get/1664252909?profile=original
ATTENDEE;ROLE=REQ-PARTICIPANT;PARTSTAT=ACCEPTED;RSVP=TRUE;CN="Rolan St
 ears":https://vbnightlife.com/profile/RolanStears
ATTENDEE;ROLE=REQ-PARTICIPANT;PARTSTAT=ACCEPTED;RSVP=TRUE;CN="VBnightl
 ife.com":https://vbnightlife.com/profile/admin
END:VEVENT
END:VCALENDAR
