BEGIN:VCALENDAR
PRODID:NingEventWidget-v1
VERSION:2.0
METHOD:PUBLISH
BEGIN:VEVENT
UID:2508951:Event:212660
DTSTAMP:20260419T161341Z
SUMMARY:Sin Night & Mardi Gras at Tempt!
DESCRIPTION:\n\n757.437.8230500 Pinewood SquareServing Lunch at 11:30a
 m Sunday Brunch 10am to 3pm\n\n\n\nFor more information visit https:/
 /vbnightlife.com/events/sin-night-mardi-gras-at-tempt
DTSTART:20130212T050000Z
DTEND:20130213T045900Z
CATEGORIES:"mardi gras", tempt, "fat tuesday", "sin night"
LOCATION:Tempt Restaurant and Lounge
WEBSITE:
URL:
CONTACT:
ORGANIZER;CN="VBnightlife.com":https://vbnightlife.com/profile/admin
ATTACH;FMTTYPE="image/jpeg":http://storage.ning.com/topology/rest/1.0/
 file/get/1664189605?profile=original
ATTENDEE;ROLE=REQ-PARTICIPANT;PARTSTAT=ACCEPTED;RSVP=TRUE;CN="VBnightl
 ife.com":https://vbnightlife.com/profile/admin
END:VEVENT
END:VCALENDAR
