BEGIN:VCALENDAR
PRODID:NingEventWidget-v1
VERSION:2.0
METHOD:PUBLISH
BEGIN:VEVENT
UID:2508951:Event:213524
DTSTAMP:20260419T161335Z
SUMMARY:SIN NIGHT AT TEMPT FEATURING RYAN HINES
DESCRIPTION:\nSIN...Service Industry Night EVERY TUESDAY!\nLive Music 
 w/ Ryan Hines 9:30PM\n \n\n757.437.8230 500 Pinewood Square\n\nFor mo
 re information visit https://vbnightlife.com/events/sin-night-at-tempt
 -featuring-ryan-hines
DTSTART:20140107T230000Z
DTEND:20140108T044500Z
CATEGORIES:tempt, "virginia beach", vbnightlife, "sin night", "service
  industry night"
LOCATION:TEMPT RESTAURANT AND LOUNGE
WEBSITE:
URL:
CONTACT:
ORGANIZER;CN="VBnightlife.com":https://vbnightlife.com/profile/admin
ATTACH;FMTTYPE="image/jpeg":http://storage.ning.com/topology/rest/1.0/
 file/get/1664187835?profile=original
ATTENDEE;ROLE=REQ-PARTICIPANT;PARTSTAT=ACCEPTED;RSVP=TRUE;CN="VBnightl
 ife.com":https://vbnightlife.com/profile/admin
END:VEVENT
END:VCALENDAR
