BEGIN:VCALENDAR
PRODID:NingEventWidget-v1
VERSION:2.0
METHOD:PUBLISH
BEGIN:VEVENT
UID:2508951:Event:246697
DTSTAMP:20260421T213457Z
SUMMARY:SIN NIGHT AT ROCKFISH- BRING YOUR WRV KOOZIE
DESCRIPTION:SIN Night at RockFish Boardwalk Bar & Sea Grill featuring 
 great specials and Live Music!  Bring in your WRV Koozie for even mor
 e deals!\n\nROCKFISH\nAT THE BOARDWALK INN  1601 ATLANTIC AVENUE 757-
 213-7625\n\n \n\nFor more information visit https://vbnightlife.com/e
 vents/sin-night-at-rock-fish-bring-your-wrv-koozie
DTSTART:20131028T040000Z
DTEND:20131029T035900Z
CATEGORIES:rockfish, "sin night", "virginia beach", vbnightlife, wrv
LOCATION:RockFish
WEBSITE:
URL:
CONTACT:
ORGANIZER;CN="VBnightlife.com":https://vbnightlife.com/profile/admin
ATTACH;FMTTYPE="image/jpeg":http://storage.ning.com/topology/rest/1.0/
 file/get/1664201100?profile=original
ATTENDEE;ROLE=REQ-PARTICIPANT;PARTSTAT=ACCEPTED;RSVP=TRUE;CN="VBnightl
 ife.com":https://vbnightlife.com/profile/admin
END:VEVENT
END:VCALENDAR
