BEGIN:VCALENDAR
PRODID:NingEventWidget-v1
VERSION:2.0
METHOD:PUBLISH
BEGIN:VEVENT
UID:2508951:Event:6070
DTSTAMP:20260425T225720Z
SUMMARY:SIGNATURE FRIDAYS @ GUADALAJARA ON GRANBY
DESCRIPTION:9PM TO 2AM\n\nOn Friday, February 13th, ALLSTARLIFE Design
 er Wear and Momentum International present Signature Fridays @ Guadala
 jara (Granby). This event will display Norfolk/VA Beach’s most exclu
 sive audience. Signature Fridays will set the standard for Exclusive e
 vents in the Norfolk/VA Beach area. Come experience Diversity, Class, 
 and Fashion.\n\nCost: Free before 10pm with RSVP to signaturefriday@gm
 ail.com before noon on Friday, February 13th.\n\nFor booth reservation
 s, bottle service or birthday request, please contact 757-450-4746 or 
 signaturefriday@gmail.com.\n\nALLSTARLIFE Designer Wear\n\nMomentum In
 ternational\n\nGuadalajara\n\nBlue Box Tanning Resort\n\nTanners Point
  (T.V. Series starting March)\n\nDarKnight ENT\n\nFor more information
  visit https://vbnightlife.com/events/signature-fridays-guadalajara
DTSTART:20090213T050000Z
DTEND:20090214T045900Z
CATEGORIES:dj
LOCATION:Guadalajara Granby
WEBSITE:
URL:
CONTACT:
ORGANIZER:guadalajara
ATTACH;FMTTYPE="image/jpeg":http://storage.ning.com/topology/rest/1.0/
 file/get/1664069209?profile=original
ATTENDEE;ROLE=REQ-PARTICIPANT;PARTSTAT=ACCEPTED;RSVP=TRUE;CN="Nicole M
 axino":https://vbnightlife.com/profile/NicoleMaxino
END:VEVENT
END:VCALENDAR
