BEGIN:VCALENDAR
PRODID:NingEventWidget-v1
VERSION:2.0
METHOD:PUBLISH
BEGIN:VEVENT
UID:2508951:Event:256541
DTSTAMP:20260422T075954Z
SUMMARY:Shifting Gears, The Love Conference
DESCRIPTION:Created by Alasha Bennet, The Dating Mechanic, Shifting Ge
 ars is the only love conference that brings experts in their respectiv
 e fields together to take a holistic approach to dating and intimate r
 elationships.\nEach speaker is here to empower you to make better choi
 ces in love using techniques that work.Come join us for our Little Bla
 ck Dress and Tie Gala Register Today! http://www.shiftingears.info/\n\
 nFor more information visit https://vbnightlife.com/events/shifting-ge
 ars-the-love-conference
DTSTART:20131006T040000Z
DTEND:20131007T035900Z
CATEGORIES:singles, conference, and, black, tie, gala
LOCATION:Founders Inn and Spa
WEBSITE:
URL:
CONTACT:
ORGANIZER;CN="Alasha Bennett":https://vbnightlife.com/profile/AlashaBe
 nnett
ATTACH;FMTTYPE="image/jpeg":http://storage.ning.com/topology/rest/1.0/
 file/get/1664204571?profile=original
ATTENDEE;ROLE=REQ-PARTICIPANT;PARTSTAT=ACCEPTED;RSVP=TRUE;CN="Rolan St
 ears":https://vbnightlife.com/profile/RolanStears
ATTENDEE;ROLE=REQ-PARTICIPANT;PARTSTAT=ACCEPTED;RSVP=TRUE;CN="Alasha B
 ennett":https://vbnightlife.com/profile/AlashaBennett
END:VEVENT
END:VCALENDAR
