BEGIN:VCALENDAR
PRODID:NingEventWidget-v1
VERSION:2.0
METHOD:PUBLISH
BEGIN:VEVENT
UID:2508951:Event:214443
DTSTAMP:20260421T045206Z
SUMMARY:Seven Cities Tribal Cafe
DESCRIPTION:Seven Cities Tribal Cafe is a monthly belly dance dinner s
 howcase of professional dancers from the Seven Cities of Hampton Roads
  and beyond! The show format features three performance acts, both sol
 oist and troupe. This month's headliners: The hardest working woman in
  show biz, Onca of Richmond, VA The delightfully glamorous Aela Badian
 a of Gloucester, VA and your locally-grown, organic hostesses, Serenit
 y Tribal of Norfolk\n\nFor more information visit https://vbnightlife.
 com/events/seven-cities-tribal-cafe
DTSTART:20130303T230000Z
DTEND:20130304T010000Z
CATEGORIES:bellydance, dinner, showcase
LOCATION:Sassi Cakes & Sweets
WEBSITE:http://www.sevencitiesdance.com/tribalcafe.html
URL:http://www.sevencitiesdance.com/tribalcafe.html
CONTACT:
ORGANIZER;CN="Serenity Tribal":https://vbnightlife.com/profile/Serenit
 yTribal
ATTACH;FMTTYPE="image/jpeg":http://storage.ning.com/topology/rest/1.0/
 file/get/1664189566?profile=original
ATTENDEE;ROLE=REQ-PARTICIPANT;PARTSTAT=ACCEPTED;RSVP=TRUE;CN="Rolan St
 ears":https://vbnightlife.com/profile/RolanStears
ATTENDEE;ROLE=REQ-PARTICIPANT;PARTSTAT=ACCEPTED;RSVP=TRUE;CN="Serenity
  Tribal":https://vbnightlife.com/profile/SerenityTribal
END:VEVENT
END:VCALENDAR
