BEGIN:VCALENDAR
PRODID:NingEventWidget-v1
VERSION:2.0
METHOD:PUBLISH
BEGIN:VEVENT
UID:2508951:Event:7039
DTSTAMP:20260422T090333Z
SUMMARY:SETON YOUTH SHELTERS SUPPER CLUB @ TERRAPIN
DESCRIPTION:Help Support Seton Youth Shelters\n\nJoin us Wednesday, Ma
 rch 4th from 5:30p.m. to 10:30p.m.for the \"Seton Youth Shelters Suppe
 r Club\". We will be donating a portion of the evenings proceeds to he
 lp support their programs.\n\nSeton Youth Shelters\n\nSo, come eat, dr
 ink, and be merry all for a good cause.\n\nFor Reservations Call: 757-
 321-6688\n\nFor more information visit https://vbnightlife.com/events/
 seton-youth-shelters-supper
DTSTART:20090304T223000Z
DTEND:20090305T033000Z
CATEGORIES:fundraiser, dinner
LOCATION:Terrapin
WEBSITE:
URL:
CONTACT:
ORGANIZER:Seton House Youth Shelters
ATTACH;FMTTYPE="image/jpeg":http://storage.ning.com/topology/rest/1.0/
 file/get/3723681380?profile=original
ATTENDEE;ROLE=REQ-PARTICIPANT;PARTSTAT=ACCEPTED;RSVP=TRUE;CN="Nicole M
 axino":https://vbnightlife.com/profile/NicoleMaxino
END:VEVENT
END:VCALENDAR
