BEGIN:VCALENDAR
PRODID:NingEventWidget-v1
VERSION:2.0
METHOD:PUBLISH
BEGIN:VEVENT
UID:2508951:Event:297165
DTSTAMP:20260423T105237Z
SUMMARY:Through the Looking Glass: Southern Classics  Platinum 20th An
 niversary Annual Fashion Show & Luncheon
DESCRIPTION:\nTHROUGH THE LOOKING GLASS 20th ANNUAL, FASHION SHOW & TE
 A LUNCHEON\nDATE: Thursday, November 20th, 2014\nLOCATION: Princess 
 Anne Country Club\nTIME: Begins – 12:00 PM with Cocktail hour at 11
 :00AM \n\nOn November 20, 2014, let us draw you along an afternoon of
  Southern Classics fashions and comforts. To celebrate Seton Youth S
 helters’ 20th Platinum Anniversary Fashion Show we will take you on 
 a fashion trip down South with Southern Classic and Derby fashions hel
 d at the beautiful Princess Anne Country Club in Virginia Beach. Throu
 gh the Looking Glass :Southern Classics unfolds at 11 a.m. with a coc
 ktail hour, health and beauty   displays and fabulous silent auction
  bidding. After our 12 p.m. lunch, our models glide along our unique r
 unway in breathtaking designs by leading regional retailers and local 
 designers. This year, we are pleased to again feature WTKR anchor Barb
 ara Ciara as our Mistress of Ceremonies.\n \nTicket Purchase $50 here
 : http://bit.ly/setontickets\n  Proceeds benefit Seton Youth Shelte
 rs Seton Youth Shelters offer emergency shelter and counseling for ru
 naway and homeless youth. Teenagers in crisis come to Seton Youth Shel
 ters because of the hope offered to them, and to their parents. They o
 ffer hope of reconciliation, understanding, and love. In over 90 perce
 nt of cases, reconciliation is successful. Seton Youth Shelters leads 
 the way in delivering critical help to teens in crisis throughout all 
 of Hampton Roads. Please help support our local Youth Shelters!\n\n\nF
 or more information visit https://vbnightlife.com/events/seton-youth-s
 helter-s-fashion-show-tea-luncheon
DTSTART:20141120T160000Z
DTEND:20141120T190000Z
CATEGORIES:"through the looking glass", "fashion show", vbnightlife, v
 bdaylife
LOCATION:Princess Anne Country Club
WEBSITE:
URL:
CONTACT:
ORGANIZER;CN="VBnightlife.com":https://vbnightlife.com/profile/admin
ATTACH;FMTTYPE="image/jpeg":http://storage.ning.com/topology/rest/1.0/
 file/get/1664252489?profile=original
ATTENDEE;ROLE=REQ-PARTICIPANT;PARTSTAT=ACCEPTED;RSVP=TRUE;CN="VBnightl
 ife.com":https://vbnightlife.com/profile/admin
END:VEVENT
END:VCALENDAR
