BEGIN:VCALENDAR
PRODID:NingEventWidget-v1
VERSION:2.0
METHOD:PUBLISH
BEGIN:VEVENT
UID:2508951:Event:47910
DTSTAMP:20260420T060310Z
SUMMARY:SCOUT FEST 100 FEATURING SINBAD
DESCRIPTION:\n\n\nThis year marks the 100th anniversary of Boy Scoutin
 g, but what you may not realize is that Tidewater Council is one of th
 e oldest Scouting organizations in the country (it was the fifth Counc
 il, organized in 1911). To celebrate the anniversary, the Tidewater Co
 uncil is holding a 100th anniversary (entitled Scout Fest 100) on the 
 grounds of the Virginia Beach Amphitheater from October 15-17, and we 
 expect thousands of scouts and visitors to attend.\n\nFor the event we
  have not only scouts camping for the weekend, we are inviting the pub
 lic to attend on Saturday (Octobeor 16) and have full day of events fo
 r everyone. These events includes the following (more info can be foun
 d at www.bsascoutfest100.com):\n\nDoors open at 8:30 am\n\nOpening Cer
 emony: 9:40 am\nStage 2: 10 - 11:30 -- John Kingry, Magician\nStage 4:
  10 - 11:30 -- Law-Less\nStage 1: 11:30 - 1 -- ZigZag\nStage 3: 11:30 
 - 1 -- SkipJack\nStage 2: 1 - 2:30 -- Terry Kemp\nStage 4: 1 - 2:30 --
  New Direction\nStage 1: 2:30 - 4 -- Hysterically Correct Pirate Show\
 nStage 3: 2:30 - 4 -- Impulse\nStage 2: 4 - 5:30 -- Steve Forss Band\n
 Stage 4: 4 - 5:30 -- Skp Friel & The Resonators\n\nDuring the day more
  than 100 events: Displays. Presentations. Workshop. Demonstrations. H
 ands on Activities,\n\n4- 6:30 -- VIP Event: John Baldwin Band\n\nAren
 a Show:\n6:30 Scout Flag Ceremony\n7:00 Joe Maniscalco with Dave Cynar
 \n8:00 CarbonJam\n9:00 SINBAD\n\n\n1) more than 100 vendors and exhibi
 tors participating -- workshops, demonstrations, presentations.\n2) 10
  local bands/acts/entertainers on the Midway Stages\n3) Sinbad -- the 
 comedian -- headlining the Arena Stage.\n4) Carbon Jam and Joe Manisca
 lco\n\nSaturday’s Exhibits and Events:\n\nHands on Activities and Di
 splays.\n\nVirginia Aquarium Touch Tank, Bounce House, Pumpkin Chunkin
 ’, Blackhawk Helicopter onsite, Medieval Demonstrations, Fire Trucks
 , Golf Driving Range, Arena Racing Cars, Sailboats, Remote Control Car
 s, Land Sailing, 100+ Scout run activities and displays and much more!
 \n\nThe main act for Scout Fest 100 Arena Show is:\n\nSINBAD\n\nA popu
 lar comedian, actor and commercial spokesperson, Sinbad brings his hil
 arious, real life, story-telling style of comedy to his show.\n\nGates
  open at 5:30pm for Evening Amphitheater Show\n\nSaturday Tickets:\n\n
 $10 Midway Events only\n\nSpecial Deal\n\n$25 Midway + Sinbad (GA 200)
 \n\n$25 Sinbad Show (seats in GA 200)\n\n$35 Sinbad Show (seats in Sel
 ect 100)\n\n$100 VIP Tickets\n\nFor more information visit:\n\nwww.BSA
 ScoutFest100.com ~ www.facebook.com/ScoutFest\n\nFor questions or to p
 urchase tickets call 757-773-8389 or email scoutfest@scouting.org\n\nF
 or more information visit https://vbnightlife.com/events/scout-fest-10
 0-featuring
DTSTART:20101016T133000Z
DTEND:20101016T203000Z
CATEGORIES:fundraiser, family
LOCATION:Virginia Beach Amphitheater
WEBSITE:
URL:
CONTACT:
ORGANIZER;CN="VBnightlife.com":https://vbnightlife.com/profile/admin
ATTACH;FMTTYPE="image/jpeg":http://storage.ning.com/topology/rest/1.0/
 file/get/1664120204?profile=original
ATTENDEE;ROLE=REQ-PARTICIPANT;PARTSTAT=ACCEPTED;RSVP=TRUE;CN="Fran Har
 ding":https://vbnightlife.com/profile/FranHarding
ATTENDEE;ROLE=REQ-PARTICIPANT;PARTSTAT=ACCEPTED;RSVP=TRUE;CN="VBnightl
 ife.com":https://vbnightlife.com/profile/admin
END:VEVENT
END:VCALENDAR
