BEGIN:VCALENDAR
PRODID:NingEventWidget-v1
VERSION:2.0
METHOD:PUBLISH
BEGIN:VEVENT
UID:2508951:Event:12249
DTSTAMP:20260425T155559Z
SUMMARY:SCOTT ROBINSON
DESCRIPTION:The Virginia Arts Festival\n\nScott Robinson\n\ntenor sax\
 nSat, May 9, 8:00 pm\nAttucks Theatre, Norfolk\n$20, no discount\n\nYo
 u might have heard this multi-talented multi-instrumentalist on trumpe
 t with Lionel Hampton's quintet, on alto clarinet with Paquito D'River
 a's quartet, on bass sax with the New York City Opera, any of 165 reco
 rdings or movie sound tracks. But the best way to hear him is live at 
 the Attucks!\nPerformance also features the virtuoso John Toomey Trio:
  John Toomey, piano; Jimmy Masters, bass; Corey Fonville, drums\n\nFor
  more information visit https://vbnightlife.com/events/scott-robinson
DTSTART:20090510T000000Z
DTEND:20090510T030000Z
CATEGORIES:concert
LOCATION:Attucks Theatre
WEBSITE:
URL:
CONTACT:
ORGANIZER;CN="Nicole Maxino":https://vbnightlife.com/profile/NicoleMax
 ino
ATTACH;FMTTYPE="image/jpeg":
ATTENDEE;ROLE=REQ-PARTICIPANT;PARTSTAT=ACCEPTED;RSVP=TRUE;CN="Nicole M
 axino":https://vbnightlife.com/profile/NicoleMaxino
END:VEVENT
END:VCALENDAR
