BEGIN:VCALENDAR
PRODID:NingEventWidget-v1
VERSION:2.0
METHOD:PUBLISH
BEGIN:VEVENT
UID:2508951:Event:295352
DTSTAMP:20260421T013449Z
SUMMARY:Scavenger Hunt  with CASH Prizes for 1st and 2nd Place Winners
DESCRIPTION:PURCHASE YOUR DISCOUNTED TICKETS HERE: \nwww.VBhotdeals.c
 om \nWhy we love this event:\n\n4rd Annual Virginia Beach City Wide S
 cavenger Hunt!\nGrab your significant other, BFFs, School Members, sor
 ority sisters, frat brothers, your grandmother, church member or whome
 ver! \nCompete for Cash Prizes and a Trophies during a Scavenger Hunt
  that takes You and your friends throughout the city\nScavenger hunts 
 are a great way to get to know a city & Fun social activity.\nAll ages
  can participate!\nWhen: Saturday September 13, 2014\nRegistration beg
 ins at 12:30 pm, the hunt begins promptly at 1 pm and ends at 4pm.\nWh
 ere: Starts at Great Neck Park Shelter #5.\nEnds:  TBD\nHunt takes pl
 ace by car\n\nPrizes:\n\n1st Place Takes Home $200 Cash & a trophy.\n2
 nd Place takes home $75 Cash & a trophy\n3rd Place takes home a trophy
 \nAfter party with judging includes snacks and beverages. \nThe winne
 r is the one that solves the most clues\n\nTo qualify, participants mu
 st complete the following activities:\n\nTake pictures of your entire 
 team in front of different places around the city.\nTake pictures of c
 ertain people, places and things.\nBring back specific items.\n\nWhat'
 s the Catch?\n\nOperates in all weather conditions.\nTeams may be any 
 size. We recommend 4 members but you must have at least 2.\n\nVisit th
 em on Facebook Here: https://www.facebook.com/pages/Queens-Entertainm
 ent-Group/1417331908517977\n\n\nFor more information visit https://vbn
 ightlife.com/events/scavenger-hunt-for-two-four-or-six-person-teams-on
 -september-13-w
DTSTART:20140913T163000Z
DTEND:20140913T200000Z
CATEGORIES:"scavenger hunt", camp4autism, autism, vbdaylife
LOCATION:Virginia Beach
WEBSITE:
URL:
CONTACT:
ORGANIZER;CN="VBnightlife.com":https://vbnightlife.com/profile/admin
ATTACH;FMTTYPE="image/jpeg":http://storage.ning.com/topology/rest/1.0/
 file/get/1664248227?profile=original
ATTENDEE;ROLE=REQ-PARTICIPANT;PARTSTAT=ACCEPTED;RSVP=TRUE;CN="VBnightl
 ife.com":https://vbnightlife.com/profile/admin
END:VEVENT
END:VCALENDAR
