BEGIN:VCALENDAR
PRODID:NingEventWidget-v1
VERSION:2.0
METHOD:PUBLISH
BEGIN:VEVENT
UID:2508951:Event:301354
DTSTAMP:20260423T025608Z
SUMMARY:SAVE $20 - BUSCH GARDENS BEST CHRISTMAS TOWN DISCOUNT OF THE S
 EASON
DESCRIPTION:ABOUT CHRISTMAS TOWN\nCelebrate the spirit of the season a
 t Busch Gardens’ Christmas Town™. Christmas Town brings holiday tr
 aditions to life with heartwarming shows, delicious holiday dining and
  festive shopping opportunities. Experience Christmas traditions from 
 around the world and keep warm with a mug of Busch Gardens' signature 
 hot chocolate. This year, Christmas Town is brighter than ever with mo
 re than eight million lights. Of course, no visit would be complete wi
 thout a stop at the North Pole to see Santa's workshop and meet the jo
 lly old elf-himself.\n\nBusch Gardens Christmas Town is normally $32 d
 iscounted to $12 for a limited time!  You can Enjoy the discounted ti
 cket on any one of the following dates: Nov. 21, 22, 23, 30, Dec. 7, 
 15, 16, 17, 18, 22 or 30.  \n\nThis $12 single-day Christmas Town tic
 ket represents a $20 savings off the regular $32 one-day ticket price.
 \n\n\n\"The $12 Christmas Town ticket is the best deal of the Christma
 s Town season,” said Marketing Vice President Dan Dipiazzo. “Pick 
 one of the 12 days to visit and discover why Christmas Town is the pla
 ce where Christmas shines brightest.\"\n\nWhen purchasing the tickets,
  shoppers are not required to choose a specific date. The website does
 , however, ask for names to put on each ticket. In past years, simply 
 using the generic name \"Guest\" has been acceptable. \n\nVisit Chri
 stmasTown.com/VA to take advantage of the offer.\n\nFor more informat
 ion visit https://vbnightlife.com/events/save-20-on-busch-gardens-chri
 stmastown
DTSTART:20141117T050000Z
DTEND:20141119T045900Z
CATEGORIES:discount, "busch gardens christmastown"
LOCATION:BUSCH GARDENS
WEBSITE:
URL:
CONTACT:
ORGANIZER:VBnightlife.com / VBdaylife.com / VBhotdeals.com
ATTACH;FMTTYPE="image/jpeg":http://storage.ning.com/topology/rest/1.0/
 file/get/1664253013?profile=original
ATTENDEE;ROLE=REQ-PARTICIPANT;PARTSTAT=ACCEPTED;RSVP=TRUE;CN="VBnightl
 ife.com":https://vbnightlife.com/profile/admin
END:VEVENT
END:VCALENDAR
