BEGIN:VCALENDAR
PRODID:NingEventWidget-v1
VERSION:2.0
METHOD:PUBLISH
BEGIN:VEVENT
UID:2508951:Event:9976
DTSTAMP:20260425T142532Z
SUMMARY:SATURDAY'S BAND / EVENTS LISTING
DESCRIPTION:15th Street Raw Bar - EVERYBODY LOVES TEQUILA\n501 - DANZI
 NGO\n757 - KEVIN MAC\nAbbey Road -\nAJ GATORS GENERAL BOOTH BLVD - THE
  FORCE 9:30P\nAJ Gators - Hilltop -\nAbbey Road - WARREN SEABURG\nAvan
 ti -\nBaker Street- REGULATORS\nBayside Inn - NEW BAND SHOWCASE\nBones
 hakers - BLUE LORDS\nCatch 31 - DJ ANDY KIM\nCentral 111\nChichos Paci
 fic - TOQUE\nClutch - CORY DANIEL BAND\nCozumel - LADIES NIGHT - DJ\nC
 P Shuckers (shore and oceanfront) FINAL FOUR\nEncore Lounge - DJ\nFinn
  McCools - EVERLASTING LOUNGE 9pm\nFrog - KARAOKE\nFunny Bone - PAULY 
 SHORE\nG. F.Keagans- DAVE CARTER\nGreenies - Norfolk BORDERLINE CRAZY\
 nGreen Oak Pub- OPEN MIC NIGHT\nGreen Parrot - SKIP FRIEL & THE RESONA
 TORS\nGil's - SINGOD\nH2O - THE DELOREANS\nThe Half Shell - STUCK BACK
 WARDS W/ GUESTS\nHell's Kitchen - Norfolk \"RICH WHISKEY AUDITION\nHot
  Tuna- ROCKSTAR PARKING\nH K On The Bay - DEREK SMITH\nJewish Mother -
  BIG BILL MORGANFIELD\" + \"HOLLY ROAD\nKeagans - Town Center - MARC W
 ITH A K 10PM\nKeagan's - Upton Drive- KEVIN BLEAKLEY 10PM\nKelly's - N
 ags Head NC \"PRACTICALLY EINSTEIN\nKnuckleheads - PARALLEL MINDS\"\nK
 okoamos - DYNAMOHUM\nLittle Theatre of Virginia - ZOMBIE PROM\nLucky O
 yster- THE CREW\nLunasea - DJ JAYONE\nMiss Kitty's - PART-TIME SAINTS\
 nMurphy's Irish Pub - JOHN ICKES\nNorva - NO FAULT OF THEIR OWN\nOtani
  - VB \"SKIP FRIEL & THE RESONATORS\nPeabody's - ROCKYOKE\nPoppa's Pub
  -\nRainbow Cactus - REGINA SAYLES - 3472 Holland Rd\nScandals - VB \"
 OFF THE CHAIN\"\nSharx - FINAL FOUR BASKETBALL\nSmackwater Jacks - VB 
 \"USED MUSIC\nSouth Beach Grill - VB \"EL KABONG\nTiki Seagrille - San
 dbridge Rd - VB \"JANITORS\nVelvet - GIRL TALK AFTER PARTY\nWing King 
 - BILLY THOMPSON\n\nFor more information visit https://vbnightlife.com
 /events/saturdays-band-events-listing-9
DTSTART:20090404T220000Z
DTEND:20090404T230000Z
CATEGORIES:bands, dj
LOCATION:Virginia Beach
WEBSITE:
URL:
CONTACT:
ORGANIZER;CN="Nicole Maxino":https://vbnightlife.com/profile/NicoleMax
 ino
ATTACH;FMTTYPE="image/jpeg":http://storage.ning.com/topology/rest/1.0/
 file/get/1664070120?profile=original
ATTENDEE;ROLE=REQ-PARTICIPANT;PARTSTAT=ACCEPTED;RSVP=TRUE;CN="Nicole M
 axino":https://vbnightlife.com/profile/NicoleMaxino
END:VEVENT
END:VCALENDAR
