BEGIN:VCALENDAR
PRODID:NingEventWidget-v1
VERSION:2.0
METHOD:PUBLISH
BEGIN:VEVENT
UID:2508951:Event:8913
DTSTAMP:20260425T142555Z
SUMMARY:SATURDAY'S BAND / EVENTS LISTING
DESCRIPTION:15th Street Raw Bar - LEIR JET\n501 - DKR Band (Dave, Kate
 , Ross and Billy on drums!)\n757 - KEVIN MAC\nAbbey Road - PETE HANSON
  & LARRY EMMANUEL\nAvanti - DJ TRIGGA , DJ JEYONE\nBaker Street - ROOT
  66\nBayside Inn - WOODWORK\nBoneshakers - BLIND TOONA\nCatch 31 - DJ 
 ANDY\nCentral 111 - TOP 40/ IN HOUSE DJ\nEncore Lounge - DJ Jack of Sp
 ade\nFinn McCools - KEVIN BLEAKLEY 9pm\nFrog - KARAOKE\nGil's Bar and 
 Grille - WOE\nGreenies - Norfolk BORDERLINE CRAZY\nGreen Parrot - SKIP
  FRIEL & THE RESONATORS\nH2O - THIN AIR RISING\nHalf Shell - BURNSYSLE
  W/ UNDER ONE CONDITION\nHell's Kitchen - Norfolk - EVERYBODY LOVES TE
 QUILA\nHot Tuna - ELEMENT\nJewish Mother - JESSE CHONG - FULL BAND\nKe
 agans - Town Center - JACK BECKER\" 10pm\nKeagan's Sports Pub - DANZIN
 GO\" 10pm\nKelly's - Nags Head NC \"PRACTICALLY EINSTEIN\"\nKnucklehea
 ds - BLUE LORDS\nKokoamos - STRICKLY BIZZNESS\nLazy Horse - Ches \"JOU
 RNEY BACK\nLucky Oyster - KEVIN KELLEY BAND\nLunasea - DJ\nManhattans 
 -NN \"VINYL HEADLIGHTS\nMurphy's Irish Pub - VB \"VAL LITTLE\"\nNorva 
 - Norfolk \"SLIGHTLY STOOPID AND REBELUTION\nO'Sullivans - Great Neck 
 - VB \"LEWIS McGEHEE\"\nOtani - Laskin Rd - DOUBLE TAKE 0R SIX STRING 
 SLINGER JOHN BALDWIN\nPeabody's - SPIN CITY ROCKYOKE\nPoppa's Pub - FU
 LL THROTTLE\nRoger's Sports Bar - HARD DRIVE\nROSY’S 2 - Norfolk - T
 HE FORCE 9:30\nSaddle Ridge - Hampton \"SOUL PATCH\nScandals - RENDITI
 ON\nSmackwater Jacks - FLIES WITH HONEY\nSouth Beach Grill - VB \"151\
 nTiki Sea Grille - Sandbridge Rd - VB \"WARREN SEABURG & THE INCOGNITO
  BROTHERS\"\nVirginia Beach Central Library - VB \"STEPHEN BENNETT\nWi
 ng King Sports Bar & Grille - VB \"JOE MANISCALCO\" 8:30pm\n\nOUTDOOR 
 EVENTS\nDAFFODIL FESTIVAL - Gloucester Courthouse\n10:00am **PARADE **
 \n\nTOYOTA MAIN STAGE\n12:00pm, 02:00pm, 03:30pm \"LP & COMPANY\"\n01:
 00pm, 03:00pm \"SUSAN GREENBAUM\"\n04:00pm \"JAMES REDMOND\"\n\nMAIN S
 TREET STAGE\n12:30pm, 01:45pm, 03:00pm \"PLANET FULL OF BLUES\"\n01:15
 pm, 02:30pm, 03:45pm \" ? ? ? \"\n\nCHILDREN'S STAGE\n12:30pm, 02:15pm
  \"C SHELLS\"\n\nSHRINE CLUB - Ches ** OYSTER ROAST ** \"HOTCAKES\"\n\
 nFor more information visit https://vbnightlife.com/events/saturdays-b
 and-events-listing-8
DTSTART:20090328T040000Z
DTEND:20090329T035900Z
CATEGORIES:live, music, dj
LOCATION:Virginia Beach
WEBSITE:
URL:
CONTACT:
ORGANIZER;CN="Nicole Maxino":https://vbnightlife.com/profile/NicoleMax
 ino
ATTACH;FMTTYPE="image/jpeg":http://storage.ning.com/topology/rest/1.0/
 file/get/1664070261?profile=original
ATTENDEE;ROLE=REQ-PARTICIPANT;PARTSTAT=ACCEPTED;RSVP=TRUE;CN="Steve At
 hey":https://vbnightlife.com/profile/SteveAthey
ATTENDEE;ROLE=REQ-PARTICIPANT;PARTSTAT=ACCEPTED;RSVP=TRUE;CN="Nicole M
 axino":https://vbnightlife.com/profile/NicoleMaxino
END:VEVENT
END:VCALENDAR
