BEGIN:VCALENDAR
PRODID:NingEventWidget-v1
VERSION:2.0
METHOD:PUBLISH
BEGIN:VEVENT
UID:2508951:Event:6837
DTSTAMP:20260425T173650Z
SUMMARY:SATURDAY'S BAND / EVENTS LISTING
DESCRIPTION:The 5040 - 5040 VIRGINIA BEACH BLVD - DAWN OF\n15th Street
  Raw Bar - RIVER BOYZ\n501 City Grill - ROCKSTAR PARKING\nA Time to Da
 nce - SOCIAL DANCE PARTY 9PM\nAbbey Road - KARL WERNE\nA.J. Gators - U
 FC FIGHT\nBaker Street - QUIK FIX\nClutch - JESSE CHONG\nFat Tuesday's
  - GANGSTERS OF LOVE\nFly n Fishbone - AHISA -jazz and R&B\nFresh Tapa
 s and Tonic - DKR (Dave, Kate and Ross)\nGil's - SEKSHUN 8\nHalf Shell
  - BENEFIT FOR JAY DUB FEATURING DUBURBIA, JACKMOVE, NO DREADS, DHH AN
 D RIO\nH K On The Bay - MOTORPSYCHIC\nHot Tuna - DYNAMOHUM\nJewish Mot
 her - SAFFIRE - THE UPPITY BLUES WOMEN 9PM\nKnuckleheads - STRICKLY BI
 ZZNESS\nKokoamos - KRUNCH\nLucky Oyster - JACK BECKER - 8:30\nMurphy's
  Irish Pub - DON BUNCH\nNorva - Norfolk STEVE KIMOCK & FRIENDS featuri
 ng Melvin Seats\nThe Office - 1765 Virginia Beach Blvd - THE RETAILERS
 \nOtani Grill - SWINGIN' MACHINE\nPoppa's Pub - NHP\nScandals - OFF TH
 E CHAIN\nScooters - USED MUSIC\nShorebreak - UFC FIGHT\nSmackwater Jac
 k's - BLUE LORDS\nSouth Beach Grill - EL KABONG\nTiki Seagrille - Sand
 bridge Rd - HOTCAKES\n\nFor more information visit https://vbnightlife
 .com/events/saturdays-band-events-listing-6
DTSTART:20090307T050000Z
DTEND:20090308T045900Z
CATEGORIES:live, music
LOCATION:Virginia Beach
WEBSITE:
URL:
CONTACT:
ORGANIZER;CN="Nicole Maxino":https://vbnightlife.com/profile/NicoleMax
 ino
ATTACH;FMTTYPE="image/jpeg":http://storage.ning.com/topology/rest/1.0/
 file/get/1664101230?profile=original
ATTENDEE;ROLE=REQ-PARTICIPANT;PARTSTAT=ACCEPTED;RSVP=TRUE;CN="Nicole M
 axino":https://vbnightlife.com/profile/NicoleMaxino
END:VEVENT
END:VCALENDAR
