BEGIN:VCALENDAR
PRODID:NingEventWidget-v1
VERSION:2.0
METHOD:PUBLISH
BEGIN:VEVENT
UID:2508951:Event:6588
DTSTAMP:20260425T185400Z
SUMMARY:SATURDAY'S BAND / EVENTS LISTING
DESCRIPTION:15th Street Raw Bar - MONKEYBOOTY\n501 City Grill - DKR Ba
 nd (Dave, Kate, Ross and Billy)\nAbbey Road - WARREN SEABURG\nBaker St
 reet - ROOT 66 Baron's Pub - Ports \"MICHAEL CREECH\" acoustic\nBonesh
 aker's - BUTTER\nChicho's (29th st) THE FASTERMORES & COUNTERFEIT MOLL
 Y\nClub Relevant - WITNESS THE WILDFIRE/ WINTERFEST 2009\nClub Allure 
 Champagne Lounge - TRIPLE CD RELEASE PARTY TRENDSETTERS VOL.1\nClutch 
 - THE RETAILERS\nFat Tuesdays - DUCHESS WILDER\" 9pm\nFinn McCool's - 
 JACK BECKER\nG F Keagans - Hilltop - MINK & CHEEF's ELECTRIC BAND\nGil
 's - ERASE THE ENEMY\nGreen Parrot - DOAD\" solo 9:30pm\nH2O - DANZING
 O\"\nHalf Shell - HEROES 4 HIRE W/ GUEST TBA\nHot Tuna - ROCKSTAR PARK
 ING\nHunt Room - RHYHTM KINGS\nJewish Mother - SEKSHUN 8\nKeagans Spor
 ts Bar - LEMON DISH\" 10pm\nKnuckleheads - JANITORS\nKokoamos - DYNAMO
 HUM\nMiss Kitty's - DOUBLE EXPOSURE\nOtani - SKIP FRIEL\nPeabody's - R
 OCKYOAKE W/ SPIN CITY\nPoppa's Pub - SOUTHERN BLEND\nScandals - RENDIT
 ION & MIKE HACKWORTH\nSouth Beach Grill - BIGGER DREAM\nStarz - VB - F
 REESTYLE BAND\nTiki Sea Grill - Sandbridge - FOREFRONT\n\nFor more inf
 ormation visit https://vbnightlife.com/events/saturdays-band-events-li
 sting-5
DTSTART:20090228T050000Z
DTEND:20090301T045900Z
CATEGORIES:live, music
LOCATION:Virginia Beach
WEBSITE:
URL:
CONTACT:
ORGANIZER;CN="Nicole Maxino":https://vbnightlife.com/profile/NicoleMax
 ino
ATTACH;FMTTYPE="image/jpeg":http://storage.ning.com/topology/rest/1.0/
 file/get/1664069538?profile=original
ATTENDEE;ROLE=REQ-PARTICIPANT;PARTSTAT=ACCEPTED;RSVP=TRUE;CN="Nicole M
 axino":https://vbnightlife.com/profile/NicoleMaxino
END:VEVENT
END:VCALENDAR
