BEGIN:VCALENDAR
PRODID:NingEventWidget-v1
VERSION:2.0
METHOD:PUBLISH
BEGIN:VEVENT
UID:2508951:Event:5824
DTSTAMP:20260425T213652Z
SUMMARY:SATURDAY'S BAND / EVENTS LISTING
DESCRIPTION:15th Street Raw Bar - DYNAMOS\n501 - DKR\nAbbey Road - DAV
 ID PETRETTO\nBaker Street - NEW DIRECTION\nBar None - HARD DRIVE & JOH
 N E. ROTH\nBoneshakers - ROOT 66\nFinn McCool's - DAVE CAVITT\nFly n F
 ishbone - AHISA (jazz and R&B)\nGreen Parrot - VB \"DOAD\" Band 9:30pm
 \nH K On The The Bay - PAWN SHOP LIFTERS\nHalf Shell - THE ST. VALENTI
 NE'S DAY MASACRE W/ HOBGOBLIN, SOLTICE, FIRST TO FALL & AQUILA\nHunt R
 oom - CLOSED TO PUBLIC - RED HOT VALENTINE BALL\nJewish Mother - VB \"
 LARRY KEEL & NATURAL BRIDGE w/CED HUGHES\nKeagans - Town Center - VB \
 "JESSE CHONG\" 10pm\nKeagans Sports Bar - VB \"RYAN CONROY 10pm\nKnuck
 leheads - VB \"RENDITION W/MIKE HACKWORTH\nKokoamos - VB \"STRICKLY BI
 ZZNESS\"\nMurphy's Irish Pub - JOHN ICKES\nNorva - Norfolk \"RIGHT ON\
 " + \"THE DELOREANS\"\nOtani - VB \"KARL WERNE W/ EDDIE WILLIAMS\nPeab
 ody's - ROCKYOKE\nPoppa's pub - VB \"BLIND TOONA\nScandals - VB \"BLUE
  LORDS\"\nSouth Beach Grill - VB \"MICHAEL CLARK BAND\"\nTiki Seagrill
 e - Sandbridge Rd - VB \"BIGGER DREAM\" or \"DOAD\"\n\nFor more inform
 ation visit https://vbnightlife.com/events/saturdays-band-events-listi
 ng-3
DTSTART:20090214T230000Z
DTEND:20090215T000000Z
CATEGORIES:live, music
LOCATION:Virginia Beach
WEBSITE:
URL:
CONTACT:
ORGANIZER;CN="Nicole Maxino":https://vbnightlife.com/profile/NicoleMax
 ino
ATTACH;FMTTYPE="image/jpeg":http://storage.ning.com/topology/rest/1.0/
 file/get/1664099774?profile=original
ATTENDEE;ROLE=REQ-PARTICIPANT;PARTSTAT=ACCEPTED;RSVP=TRUE;CN="Nicole M
 axino":https://vbnightlife.com/profile/NicoleMaxino
END:VEVENT
END:VCALENDAR
