BEGIN:VCALENDAR
PRODID:NingEventWidget-v1
VERSION:2.0
METHOD:PUBLISH
BEGIN:VEVENT
UID:2508951:Event:200428
DTSTAMP:20260422T224400Z
SUMMARY:2 for 1 VIP tickets to Sara Evans
DESCRIPTION:Whisper Concert & the Military Concert Series presents\nSA
 RA EVANS!\n\nGeneral Admission is free, VIP tickets available at Tick
 etmaster HERE  Use code \"USAD\" to receive 2 tickets for the price 
 of one ($30 savings)\n\nSara Evans & Josh Thompson\nGates open at 5pm\
 nShow starts at 7pm\nSara Evans is an American country singer and song
 writer. While in her teens, she suffered an auto accident. She sang to
  help pay her medical expenses. Before long, she had decided to move t
 o Nashville to pursue a career in music. Her 2003 platinum album, Rest
 less, was followed by 2005's Real Fine Place. Her sixth studio album, 
 Stronger, was released in March 2011.  \nCheck out her website here: 
  http://saraevans.com/\nFacebook here: https://www.facebook.com/sara
 evans\n\n\nFor more information visit https://vbnightlife.com/events/s
 ara-evans
DTSTART:20120713T210000Z
DTEND:20120714T020000Z
CATEGORIES:"military concert series", "hampton roads concerts", "whisp
 er concerts", "sara evans", "ft. eustis"
LOCATION:Murphy Field, Ft. Eustis
WEBSITE:http://www.ticketmaster.com/event/01004843E453DEB2
URL:http://www.ticketmaster.com/event/01004843E453DEB2
CONTACT:
ORGANIZER;CN="VBnightlife.com":https://vbnightlife.com/profile/admin
ATTACH;FMTTYPE="image/jpeg":http://storage.ning.com/topology/rest/1.0/
 file/get/1664177730?profile=original
ATTENDEE;ROLE=REQ-PARTICIPANT;PARTSTAT=ACCEPTED;RSVP=TRUE;CN="Rolan St
 ears":https://vbnightlife.com/profile/RolanStears
ATTENDEE;ROLE=REQ-PARTICIPANT;PARTSTAT=ACCEPTED;RSVP=TRUE;CN="VBnightl
 ife.com":https://vbnightlife.com/profile/admin
END:VEVENT
END:VCALENDAR
