BEGIN:VCALENDAR
PRODID:NingEventWidget-v1
VERSION:2.0
METHOD:PUBLISH
BEGIN:VEVENT
UID:2508951:Event:33699
DTSTAMP:20260420T164826Z
SUMMARY:SANDSTOCK - A TRIBUTE TO ROCK & ROLL
DESCRIPTION:Sandstock – A Tribute to Rock & Roll\n\nEVENT DATE:\nJun
  25 2010 - Jun 27 2010\nLOCATION:\n17th Street Park\n24th Street Park\
 n31st Street Park\n“Sandstock” – a Beach-inspired variation on 
 Woodstock” – is a tribute to the music of the 60’s, 70’s, an
 d 80’s that “rocked our world!” National and local tribute artis
 ts who run the gamut and cover performers like Led Zeppelin to Queen t
 o Journey crank out hit after hit on multiple stages at the Virginia B
 each oceanfront. Even “The King” himself gets in on the act with s
 pecial tribute shows at 31st Street Park on Sunday night!\n\nHOST HOTE
 L:\n\n\nTo set the stage, parks are decorated…thrill to the “Flowe
 r Power” hippies of the 60’s, the “Disco Divas” of the 70’s,
  and the “big hair” rockers of the 80’s! To electrify the night,
  a laser light show explodes on a giant screen on the beach to the mus
 ic of bands like Pink Floyd!\n\nTo add a touch of whimsy and period au
 thenticity, psychedelic “hippie” vans provided by local and region
 al VW clubs, are on display. Games and activities for all ages round o
 ut this “blast from the past!”\n\nA TRIBUTE TO ROCK & ROLL\n\nEnte
 rtainment Schedule\n\nFriday, June 25:\n17th Street Park\n7:30pm-9:00p
 m, Heart: Heartless\n9:30pm-1100pm, Queen: Almost Queen\n\n24th Street
  Park\n7:30pm-8:30pm, Carbon Jam\n9:00pm-11:00pm, The Doors: The Soft 
 Parade\n\n31st Street Park\n8:00pm-9:00pm & 9:30pm-11:00pm, Rolling St
 ones: Sticky Fingers\n\nSaturday, June 26:\n17th Street Park\n7:30pm-9
 :00pm & 9:30pm-11:00pm, The Grateful Dead: Cosmic Charlie\n\n24th Stre
 et Park\n7:30pm-8:30pm, The Band: Cripple Creek\n9:00pm-11:00pm, Creed
 ence Clearwater Revival: The Bayou Boys\n\n31st Street Park\n7:30pm-8:
 45pm, Stevie Ray Vaughan: Riviera Paradise\n9:15pm-11:00pm, Led Zeppel
 in: ZOSO\n\nSunday, June 27:\n17th Street Park\n7:30pm-9:00pm, Fleetwo
 od Mac: Fleetwood Mix\n9:30pm-11:00pm, Journey: Frontiers\n\n24th Stre
 et Park\n7:30pm-8:30pm & 9:00pm-11:00pm, Marrakesh Express\n\n31st Str
 eet Park\n7:30pm-9:00pm, A tribute to The King: Sterling Riggs\n9:30pm
 -11:00pm, A Tribute to The King: Jim Smith\n\nFor more information vis
 it https://vbnightlife.com/events/sandstock-a-tribute-to-rock
DTSTART:20100626T040000Z
DTEND:20100628T035900Z
CATEGORIES:festival, "/", band
LOCATION:VIRGINIA BEACH
WEBSITE:
URL:
CONTACT:
ORGANIZER;CN="VBnightlife.com":https://vbnightlife.com/profile/admin
ATTACH;FMTTYPE="image/jpeg":http://storage.ning.com/topology/rest/1.0/
 file/get/1664103553?profile=original
ATTENDEE;ROLE=REQ-PARTICIPANT;PARTSTAT=ACCEPTED;RSVP=TRUE;CN="VBnightl
 ife.com":https://vbnightlife.com/profile/admin
END:VEVENT
END:VCALENDAR
