BEGIN:VCALENDAR
PRODID:NingEventWidget-v1
VERSION:2.0
METHOD:PUBLISH
BEGIN:VEVENT
UID:2508951:Event:156034
DTSTAMP:20260424T065021Z
SUMMARY:Sand Shark Limos Presents: VBNightlife Party Bus to Retro Cafe
 !
DESCRIPTION:That's right, we're at it again! Last month, we had a stre
 tch Excursion, but this time we're doing it right with a PARTY BUS, co
 urtesy of Sand Shark Limousines! We'll be bouncing from place to place
  before we end up at RETRO CAFE for SCOTTIE AND THE HOTTIES!\n \nWe'r
 e starting off at South Beach grill for dinner around 7... They're hoo
 king us up with 1LB of STEAMED CRAB LEGS FOR JUST $8.99!! Can this dea
 l be beat? No sir, it cannot. \n \nThe limo will pick us up at 8, an
 d we'll hang out at H2O Beach Bar & Grill (3152 Shore Dr.)... They'll 
 have some awesome live entertainment with Your Sister's Canary and Jes
 se Chong, and VBNightlife will be in the house!! We'll check in once w
 e get there, and we'd love for you to come out and have a few drinks w
 ith the lovely ladies that will be riding in our party bus!\n \nFrom 
 H2O, we'll hop back in the party bus and head around the Cape Story co
 rner and head down to Retro Cafe (2218 Atlantic Ave). We can only fit 
 so many in the party bus, but we'd love for you to follow us over to t
 he oceanfront!\nScottie and the Hotties? What is this?!\nThey're an aw
 esome Top 40s cover band from the area - and the coolest guys (and gir
 l) ever! They'll definitely get your feet moving, and you won't be abl
 e to resist throwing your hands up and letting loose!\n \nBy the way,
  you should try this amazing drink I had there the other night... Berr
 y Lemonade Pinnacle & Sugar-Free Red Bull. It's not included in happy 
 hour, but you should try at least one!! So delicious, and no sugar mea
 ns no hangover! :)\n\nFor more information visit https://vbnightlife.c
 om/events/sand-shark-limos-presents
DTSTART:20110715T000000Z
DTEND:20110715T034500Z
CATEGORIES:"virginia beach events", "virginia beach entertainment", "v
 irginia beach djs", "virginia beach music", "limo night", "virginia be
 ach bands", "retro cafe", "cabo cafe"
LOCATION:Retro Cafe
WEBSITE:
URL:
CONTACT:
ORGANIZER;CN="VBnightlife.com":https://vbnightlife.com/profile/admin
ATTACH;FMTTYPE="image/jpeg":http://storage.ning.com/topology/rest/1.0/
 file/get/1664146557?profile=original
ATTENDEE;ROLE=REQ-PARTICIPANT;PARTSTAT=ACCEPTED;RSVP=TRUE;CN="VBnightl
 ife.com":https://vbnightlife.com/profile/admin
ATTENDEE;ROLE=REQ-PARTICIPANT;PARTSTAT=ACCEPTED;RSVP=TRUE;CN="Bobi Par
 tin":https://vbnightlife.com/profile/happy
END:VEVENT
END:VCALENDAR
