BEGIN:VCALENDAR
PRODID:NingEventWidget-v1
VERSION:2.0
METHOD:PUBLISH
BEGIN:VEVENT
UID:2508951:Event:290497
DTSTAMP:20260422T091810Z
SUMMARY:SALT at Bad Habits Wing and Oyster Bar
DESCRIPTION:Acoustic Rock\n\nFor more information visit https://vbnigh
 tlife.com/events/salt-at-bad-habits-wing-and-oyster-bar-7
DTSTART:20141106T230000Z
DTEND:20141107T000000Z
CATEGORIES:live, music, acoustic, rock
LOCATION:Bad Habits Wing and Oyster Bar
WEBSITE:
URL:
CONTACT:757-842-6565
ORGANIZER:SALT
ATTACH;FMTTYPE="image/jpeg":http://storage.ning.com/topology/rest/1.0/
 file/get/1664238779?profile=original
ATTENDEE;ROLE=REQ-PARTICIPANT;PARTSTAT=ACCEPTED;RSVP=TRUE;CN="Russ Kel
 ler":https://vbnightlife.com/profile/RussKeller
END:VEVENT
END:VCALENDAR
