BEGIN:VCALENDAR
PRODID:NingEventWidget-v1
VERSION:2.0
METHOD:PUBLISH
BEGIN:VEVENT
UID:2508951:Event:162362
DTSTAMP:20260423T222656Z
SUMMARY:Rockstar UPROAR Festival
DESCRIPTION: \nPURCHASE TICKETS HERE\n\n\nCome early to The Rockstar 
 Energy Drink UPROAR Festival area starting at 2:00pm! This festival ar
 ea will feature a full afternoon and night of activities filled with b
 and merchandise, vendors, and of course ROCK MUSIC!Enjoy a cool, tasty
 , free Rockstar Energy Drink then shift your focus across the festival
  to the Best Buy Music Gear stage starting with the Best Buy Music Gea
 r/Ernie Ball Battle of the Bands local winning band, then The Black Cl
 oud Collective, Art of Dying, Black Tide and closing out with Sevendus
 t.Be there early for ALL the action before heading inside to the Rocks
 tar Main Stage to witness Escape the Fate, Bullet for my Valentine, Se
 ether, Three Days Grace, and wrapping up the night with Avenged Sevenf
 old. You will go home happy!\n\n \n\nFor more information visit https
 ://vbnightlife.com/events/rockstar-uproar-festival
DTSTART:20110901T170000Z
DTEND:20110902T030000Z
CATEGORIES:"virginia beach entertainment", "virginia beach music", "vi
 rginia beach major concerts", "national tours", "virginia beach ampith
 eater", "virginia beach music festival"
LOCATION:Farm Bureau Live
WEBSITE:
URL:
CONTACT:
ORGANIZER;CN="VBnightlife.com":https://vbnightlife.com/profile/admin
ATTACH;FMTTYPE="image/jpeg":http://storage.ning.com/topology/rest/1.0/
 file/get/1664148875?profile=original
ATTENDEE;ROLE=REQ-PARTICIPANT;PARTSTAT=ACCEPTED;RSVP=TRUE;CN="Rolan St
 ears":https://vbnightlife.com/profile/RolanStears
ATTENDEE;ROLE=REQ-PARTICIPANT;PARTSTAT=ACCEPTED;RSVP=TRUE;CN="VBnightl
 ife.com":https://vbnightlife.com/profile/admin
END:VEVENT
END:VCALENDAR
