BEGIN:VCALENDAR
PRODID:NingEventWidget-v1
VERSION:2.0
METHOD:PUBLISH
BEGIN:VEVENT
UID:2508951:Event:12930
DTSTAMP:20260425T130005Z
SUMMARY:ROCKSTAR TUESDAYS@ CENTRAL 111 - CINCO DE MAYO BASH
DESCRIPTION:10PM TO 3AM\n\nRoCkStAr TuEsDaY this CiNcO De MaYo present
 s live \"EVERYBODY LOVES TEQUILA\", DJ JOE FU, & DJ SMITH ON THE DRUMS
 !!! Never forget SARA X & ALEX X for your viewing pleasure... This TUE
 SDAY Tequila flows like water my Amigos!!!\n\nCentral 111 every tuesda
 y throws the biggest baddest craziest rock night you have ever seen an
 d Cinco De Mayo will be noooo different!\n\nAll the rock songs from 70
 's to today covered smothered mashed up and of course the greastest or
 iginals!!\n\nFor more information visit https://vbnightlife.com/events
 /rockstar-tuesdays-central-111
DTSTART:20090505T040000Z
DTEND:20090506T035900Z
CATEGORIES:dj
LOCATION:Virginia Beach
WEBSITE:
URL:
CONTACT:
ORGANIZER:Joe Fu, Lance 111, bobby da Greek, Molly, and B Hud
ATTACH;FMTTYPE="image/jpeg":http://storage.ning.com/topology/rest/1.0/
 file/get/1664074861?profile=original
ATTENDEE;ROLE=REQ-PARTICIPANT;PARTSTAT=ACCEPTED;RSVP=TRUE;CN="Nicole M
 axino":https://vbnightlife.com/profile/NicoleMaxino
END:VEVENT
END:VCALENDAR
