BEGIN:VCALENDAR
PRODID:NingEventWidget-v1
VERSION:2.0
METHOD:PUBLISH
BEGIN:VEVENT
UID:2508951:Event:318926
DTSTAMP:20260422T180603Z
SUMMARY:Rocking the Stocking Concert and Noblemen Toy Drive
DESCRIPTION:Come out to Calypso on December 6th, 2015 and hear some of
  the best musicians in Hampton Roads and support The Noblemen Toy Driv
 e at our second annual...  ROCKING THE STOCKING CONCERT!!!   Where: Ca
 lypso - 1101 Atlantic Ave - Virginia Beach   ADMISSION IS FREE!!! Ple
 ase bring a toy to donate to The Noblemen Toy Drive!!  Why: The Noblem
 en will provide gifts to over 3000 local disadvantaged children this y
 ear who otherwise will not be receiving many, if any toys over the hol
 iday season. Thank you in advance for supporting The Noblemen Toy Driv
 e and helping us provide some much needed holiday magic and happiness 
 to great local kids!\n \n\n\n\nFor more information visit https://vbn
 ightlife.com/events/rocking-the-stocking-concert-and-noblemen-toy-driv
 e-1
DTSTART:20151206T210000Z
DTEND:20151207T030000Z
CATEGORIES:fundraiser, "things to do in virginia beach", "the noblemen
 "
LOCATION:Calypso
WEBSITE:
URL:
CONTACT:
ORGANIZER:The Noblemen
ATTACH;FMTTYPE="image/jpeg":http://storage.ning.com/topology/rest/1.0/
 file/get/1664290829?profile=original
ATTENDEE;ROLE=REQ-PARTICIPANT;PARTSTAT=ACCEPTED;RSVP=TRUE;CN="VBnightl
 ife.com":https://vbnightlife.com/profile/admin
END:VEVENT
END:VCALENDAR
