BEGIN:VCALENDAR
PRODID:NingEventWidget-v1
VERSION:2.0
METHOD:PUBLISH
BEGIN:VEVENT
UID:2508951:Event:293911
DTSTAMP:20260425T225534Z
SUMMARY:BAND SCHEDULE for Rock n Roll 1/2 Marathon, 2 Person Relay & 5
 K
DESCRIPTION:Sunday, August 31, 2014\nRock ‘n’ Roll Virginia Beach 
 Half Marathon, 2-Person Relay & 5K\nStart Time: 7:00am\nDistance: Half
  Marathon, 2-Person Half Marathon Relay, 5K\nStart Line: The Virgini
 a Beach Convention Center, 1000 19th St. [ map ]\n Finish Line: Virg
 inia Beach Boardwalk / 18th Street on the Beach\nEvent Details | Cou
 rse Information \n\n\n\nFor more information visit https://vbnightlif
 e.com/events/rock-n-roll-1-2-marathon
DTSTART:20140831T040000Z
DTEND:20140901T035900Z
CATEGORIES:marathon, running
LOCATION:oceanfront, \"Virginia Beach\"
WEBSITE:
URL:
CONTACT:
ORGANIZER:VBnightlife.com / vbdaylife/
ATTACH;FMTTYPE="image/jpeg":http://storage.ning.com/topology/rest/1.0/
 file/get/1664241989?profile=original
ATTENDEE;ROLE=REQ-PARTICIPANT;PARTSTAT=ACCEPTED;RSVP=TRUE;CN="VBnightl
 ife.com":https://vbnightlife.com/profile/admin
END:VEVENT
END:VCALENDAR
