BEGIN:VCALENDAR
PRODID:NingEventWidget-v1
VERSION:2.0
METHOD:PUBLISH
BEGIN:VEVENT
UID:2508951:Event:13957
DTSTAMP:20260420T222218Z
SUMMARY:Rock N' Pole
DESCRIPTION:Free Pole Dancing Lessons by Esteem Fitness\nEvery Wednesd
 ay 8 -10 pm\nDrink Specials for the Ladies!\n\nFor more information vi
 sit https://vbnightlife.com/events/rock-n-pole
DTSTART:20090528T000000Z
DTEND:20090528T020000Z
CATEGORIES:free, pole, dancing, "lessons!"
LOCATION:Lunasea
WEBSITE:
URL:
CONTACT:437-4400
ORGANIZER:Lunasea
ATTACH;FMTTYPE="image/jpeg":
ATTENDEE;ROLE=REQ-PARTICIPANT;PARTSTAT=ACCEPTED;RSVP=TRUE;CN="Entourag
 e Salon & Spa":https://vbnightlife.com/profile/EntourageSalonSpa
END:VEVENT
END:VCALENDAR
