BEGIN:VCALENDAR
PRODID:NingEventWidget-v1
VERSION:2.0
METHOD:PUBLISH
BEGIN:VEVENT
UID:2508951:Event:201930
DTSTAMP:20260420T034528Z
SUMMARY:Rock Art Show & Sale
DESCRIPTION:The Rock Art Show is a free exhibit that features rare art
 work from Rock musicians such as Paul McCartney, Bob Dylan, Ronnie Woo
 d, Jerry Garcia, Santana, Ringo Starr, Tony Bennett, John Lennon and m
 uch more, plus famous Rock photographers, gold records, concert poster
 s, album cover lithographs plus more.  Famed Rock photographer James 
 Fortune will appear live at the event, showcasing his amazing portfoli
 o of rock photos.  Also appearing is concert poster artist Scotty C.\
 nPrices of art range from $5 to $5,000. \n\n\nFor more information vi
 sit https://vbnightlife.com/events/rock-art-show-sale
DTSTART:20120818T140000Z
DTEND:20120819T220000Z
CATEGORIES:art, exhibit, "&", sale
LOCATION:Pembroke Mall
WEBSITE:http://www.rockartshow.com
URL:http://www.rockartshow.com
CONTACT:610-389-1807
ORGANIZER;CN="Scott Segelbaum":https://vbnightlife.com/profile/ScottSe
 gelbaum
ATTACH;FMTTYPE="image/jpeg":http://storage.ning.com/topology/rest/1.0/
 file/get/1664174702?profile=original
ATTENDEE;ROLE=REQ-PARTICIPANT;PARTSTAT=ACCEPTED;RSVP=TRUE;CN="Scott Se
 gelbaum":https://vbnightlife.com/profile/ScottSegelbaum
END:VEVENT
END:VCALENDAR
