BEGIN:VCALENDAR
PRODID:NingEventWidget-v1
VERSION:2.0
METHOD:PUBLISH
BEGIN:VEVENT
UID:2508951:Event:9022
DTSTAMP:20260425T185217Z
SUMMARY:RITMO TUESDAYS @ CENTRAL 111
DESCRIPTION:Tuesdays : 9 p.m. - 2 a.m.\n\nCentral 111\n401 North Great
  Neck Road\nVirginia Beach, VA 23454-4063\n757-222-1022\n\nSalsa, Mere
 ngue, Reggaeton\nDance lessons from 9:30-10:30\n$5.00 mojitos\n\nFor m
 ore information visit https://vbnightlife.com/events/ritmo-tuesdays-ce
 ntral-111
DTSTART:20090324T040000Z
DTEND:20090325T035900Z
CATEGORIES:dj
LOCATION:Central 111
WEBSITE:
URL:
CONTACT:
ORGANIZER;CN="Nicole Maxino":https://vbnightlife.com/profile/NicoleMax
 ino
ATTACH;FMTTYPE="image/jpeg":http://storage.ning.com/topology/rest/1.0/
 file/get/1664070482?profile=original
ATTENDEE;ROLE=REQ-PARTICIPANT;PARTSTAT=ACCEPTED;RSVP=TRUE;CN="Nicole M
 axino":https://vbnightlife.com/profile/NicoleMaxino
END:VEVENT
END:VCALENDAR
