BEGIN:VCALENDAR
PRODID:NingEventWidget-v1
VERSION:2.0
METHOD:PUBLISH
BEGIN:VEVENT
UID:2508951:Event:8482
DTSTAMP:20260425T173019Z
SUMMARY:RINGLING BROTHERS & BARNUM AND BAILY CIRCUS - SPECIAL DISCOUNT
  OFFER
DESCRIPTION:Go to ticketmaster.com\nand enter promo code: CHEER4\nApri
 l 16th - 19th\n\n4 TICKETS FOR $44\n\nFor more information visit https
 ://vbnightlife.com/events/ringling-brothers-barnum-and
DTSTART:20090323T220000Z
DTEND:20090323T230000Z
CATEGORIES:children
LOCATION:Chrysler Hall
WEBSITE:
URL:
CONTACT:
ORGANIZER;CN="Nicole Maxino":https://vbnightlife.com/profile/NicoleMax
 ino
ATTACH;FMTTYPE="image/jpeg":http://storage.ning.com/topology/rest/1.0/
 file/get/1664070394?profile=original
ATTENDEE;ROLE=REQ-PARTICIPANT;PARTSTAT=ACCEPTED;RSVP=TRUE;CN="Nicole M
 axino":https://vbnightlife.com/profile/NicoleMaxino
END:VEVENT
END:VCALENDAR
