BEGIN:VCALENDAR
PRODID:NingEventWidget-v1
VERSION:2.0
METHOD:PUBLISH
BEGIN:VEVENT
UID:2508951:Event:185723
DTSTAMP:20260423T074103Z
SUMMARY:RESTAURANT WEEK DINNER AT 11TH STREET TAPHOUSE featuring BRENT
  SHEPARD
DESCRIPTION:11th Street Taphouse\n\n\n\n11th Street Taphouse Bar and G
 rille\n\n1011 Atlantic Ave\n\nVirginia Beach, VA 23451\n\n757-321-8354
 \n\nwww.11taphouse.com/\n\n\n\n\n\n\n\n\n \n\nFor more information vis
 it https://vbnightlife.com/events/restaurant-week-dinner-at-11th-stree
 t-taphouse
DTSTART:20120119T230000Z
DTEND:20120120T040000Z
CATEGORIES:"restaurant week"
LOCATION:11TH STREET TAPHOUSE
WEBSITE:
URL:
CONTACT:
ORGANIZER;CN="VBnightlife.com":https://vbnightlife.com/profile/admin
ATTACH;FMTTYPE="image/jpeg":http://storage.ning.com/topology/rest/1.0/
 file/get/1664161318?profile=original
ATTENDEE;ROLE=REQ-PARTICIPANT;PARTSTAT=ACCEPTED;RSVP=TRUE;CN="VBnightl
 ife.com":https://vbnightlife.com/profile/admin
END:VEVENT
END:VCALENDAR
