BEGIN:VCALENDAR
PRODID:NingEventWidget-v1
VERSION:2.0
METHOD:PUBLISH
BEGIN:VEVENT
UID:2508951:Event:187442
DTSTAMP:20260424T210651Z
SUMMARY:RESTAURANT WEEK AT WOODY MCGEES
DESCRIPTION:\n\n\n\n\n\n\n\n\n\n\n\n\n\n\n\n\n\n\n\n\nRestaurant WeekJ
 anuary 15-22\n\n\n\n\n\nGreetings!We at Woody McGees Barstro are excit
 ed to bring our own version of Restaurant Week to our good patrons.  
 You get to choose one of the exciting choices in each of the three cat
 egories for, wait for it, wait for it, aTHREE COURSE DINNER\n20.12*(Th
 at's the price not the year;-)\n\nCourse One (choose one)1) Award win
 ning She Crab Soup Cup2) Bacon Seared Scallops over Sweet Corn and Bac
 on Cream3) Oysters Rockefeller en CasseroleCourse Two (choose one)\n1
 ) Tequila Poached Flounder over Fettuccine with a Smoked Salmon Sauce,
  Sun dried Tomatoes, Grape Tomatoes and Spinach2) Bacon Wrapped Meatlo
 af over Smoked Gouda Gold Mashers topped with Bourbon-Rosemary Gravy a
 nd Sautee of Fresh Veggies3) Seared Scallops over Sweet Pea and Bacon 
 Risotto\nCourse Three (choose one)\n1) Maple Cheesecake with Candied 
 Bacon2) Red Velvet Loaf CakeThis is the deal of the year from your Woo
 dy McGees family so don't be shy.\n*Cannot be used with any other offe
 ring, discount, coupon or certificate\n\n \n\n\n\n\n\n\n\n\n\n\n\n\n\
 n\n\n\n\nFor more information visit https://vbnightlife.com/events/res
 taurant-week-at-woody-mcgees
DTSTART:20120121T230000Z
DTEND:20120123T040000Z
CATEGORIES:"restaurant week"
LOCATION:WOODY MCGEES
WEBSITE:
URL:
CONTACT:757-222-6775
ORGANIZER;CN="VBnightlife.com":https://vbnightlife.com/profile/admin
ATTACH;FMTTYPE="image/jpeg":http://storage.ning.com/topology/rest/1.0/
 file/get/1664161743?profile=original
ATTENDEE;ROLE=REQ-PARTICIPANT;PARTSTAT=ACCEPTED;RSVP=TRUE;CN="VBnightl
 ife.com":https://vbnightlife.com/profile/admin
END:VEVENT
END:VCALENDAR
