BEGIN:VCALENDAR
PRODID:NingEventWidget-v1
VERSION:2.0
METHOD:PUBLISH
BEGIN:VEVENT
UID:2508951:Event:10659
DTSTAMP:20260425T190629Z
SUMMARY:REGGAE THURSDAYS @ CLUB MANILA AVE
DESCRIPTION:EVERY THURSDAY 9 p.m. - 2 a.m.\nPrice: No Cover before 10.
 30\nEvent Phone Number: 757-839-8763\nClub Manila Ave\n1064 Lynnhaven 
 Pkwy\nVirginia Beach, VA 23452\n\nCome experience the best reggae bash
  in the Hampton Roads @ Club Manila, every Thursday.\n\nDJ King Walker
 , VA's premiere Reggae DJ, will be on the 1s and 2s\n\nFor more inform
 ation visit https://vbnightlife.com/events/reggae-thursdays-club-manil
 a
DTSTART:20090409T220000Z
DTEND:20090409T230000Z
CATEGORIES:dj
LOCATION:Club Manila Ave
WEBSITE:
URL:
CONTACT:
ORGANIZER;CN="Nicole Maxino":https://vbnightlife.com/profile/NicoleMax
 ino
ATTACH;FMTTYPE="image/jpeg":http://storage.ning.com/topology/rest/1.0/
 file/get/1664072423?profile=original
ATTENDEE;ROLE=REQ-PARTICIPANT;PARTSTAT=ACCEPTED;RSVP=TRUE;CN="Nicole M
 axino":https://vbnightlife.com/profile/NicoleMaxino
END:VEVENT
END:VCALENDAR
