BEGIN:VCALENDAR
PRODID:NingEventWidget-v1
VERSION:2.0
METHOD:PUBLISH
BEGIN:VEVENT
UID:2508951:Event:144939
DTSTAMP:20260424T201935Z
SUMMARY:REGGAE NIGHT @ LENDY'S w/ SCHOLARS WORD
DESCRIPTION:Tuesday night, Lendy's is hosting an evening of Reggae mus
 ic, complete with a full bar, full menu and Lendy's world-famous wings
 !! Scholars Word, of Jupiter, Florida, will be providing the grooves w
 ill make both your heart and your hips sway with the beach breeze!\n 
 \nCome out, come out dis Tuesday night, \nAnd see de band dat makes i
 t alright.\nDe riddims you'll love no matter what yer taste,\nSo get y
 erself to Lendy's so your night is not a total waste!\n \nParty Start
 s at 10PM, $5 Cover\n \nScholars Word is a reggae/dub band based out 
 of Florida, USA. Never one to compromise the sound or message of regga
 e Scholars Word has strived to remain true to the art while maintainin
 g their original style and letting their different musical influences 
 shine through..\nThe band has been together almost a decade touring th
 e eastern U.S. on a regular basis and having also toured parts of Cali
 fornia and the Western US. The group has just released (Dec. 1, 2006) 
 its newest cd \"HOW LONG\" which features TEN new tracks full of consc
 ious lyrics, roots riddims and a dose of DUB. Not ones to shy away, th
 e new release is full of politically and socially charged themes such 
 as the title track which asks of each one of us \"How Long?\".\nDuring
  the summer 2006 Scholars Word was on the 'Eastside Theory' Video Prem
 iere Tour along the east coast from New York to Florida. 'Eastside The
 ory' features surfing in New York, Australia, and Hawaii as well as a 
 soundtrack featuring Scholars Word and other international artists suc
 h as Hawaii's Humble Soul, Portugal's Three and a Quarter, NYC's Seer,
  the Hilltop Hoods & many more.In addition Scholars Word has been fort
 unate enough to have played with many of the top artists including: Da
 mian Marley, Ziggy Marley & the Melody Makers, Ky-Mani Marley, Julian 
 Marley, Sizzla, Buju Banton, Capleton, Steel Pulse, Burning Spear, The
  Wailers, Israel Vibration, Don Carlos, Anthony B, Bushman, Mad Profes
 sor, EEK-A-Mouse, Mikey Dread, Everton Blender, Freddie McGregor, Thir
 d World, The Meditations, The Itals, Pato Banton, Culture, Morgan Heri
 tage, Frankie Paul, Humble Soul, Soldiers of Jah Army, Outkast, Sleepy
  Brown, Big Boi, T.I., Ja Rule, Jo-Jo, 112, Nate Dogg, Bubba Sparxx, D
 igital Underground, Erykah Badu, Squirrel Nut Zippers, Pietasters & mo
 re.\n\nFor more information visit https://vbnightlife.com/events/regga
 e-night-lendys-w
DTSTART:20110608T020000Z
DTEND:20110608T034500Z
CATEGORIES:"virginia beach", "virginia beach events", "virginia beach 
 bands", "virginia beach entertainment"
LOCATION:Lendy's Cafe & Raw Bar
WEBSITE:
URL:
CONTACT:
ORGANIZER;CN="VBnightlife.com":https://vbnightlife.com/profile/admin
ATTACH;FMTTYPE="image/jpeg":http://storage.ning.com/topology/rest/1.0/
 file/get/1664143355?profile=original
ATTENDEE;ROLE=REQ-PARTICIPANT;PARTSTAT=ACCEPTED;RSVP=TRUE;CN="VBnightl
 ife.com":https://vbnightlife.com/profile/admin
END:VEVENT
END:VCALENDAR
